Workbook
Name limit: #REF!
Name spoluucast_cis: #REF!
Name spoluucast_cis_p: #REF!
Name spoluucast_cis_v: #REF!
Name spoluucast_seznam: #REF!
Name spoluucast_seznam_p: #REF!
Name spoluucast_seznam_v: #REF!
Name spoluucast_vandal: #REF!
Name tabulka1: Kalkulace!$D$61:$G$63
Name tabulka2: Kalkulace!$D$72:$G$75
Name tabulka3: Kalkulace!$D$81:$G$81
Name tabulka4: Kalkulace!$D$29,Kalkulace!$E$29,Kalkulace!$G$29
Name volba_2: Kalkulace!$E$10,Kalkulace!$G$10

Sheet Kalkulace
B2: Exkluzivní produkt Bytasen
B4: Pojistník: | C4: Jméno: | D4: Společenství vlastníků
C5: IČO (RČ):
C6: Adresa:
C7: Telefon:
C8: E-mail:
C9: Datová schránka:
C10: Elektronická komunikace: | D10: ANO | E10: TRUE | F10: NE | G10: FALSE
C11: Oprávněná osoba:
B13: Pojištěný: | C13: Jméno: | D13: =+D4 -> Společenství vlastníků
C14: IČO (RČ): | D14: =+D5 -> 0
C15: Adresa: | D15: =+D6 -> 0
B17: Pojistná smlouva číslo: | D17: Kalkulace
B19: Pojišťovací zprostředkovatel: | C19: Jméno: | D19: RENOMIA, a.s.
C20: Smluvní ujednání: | D20: Smluvní ujednání RENOMIA pro pojištění podnikatelů Varianta II.
C21: IČO: | D21: 48391301
C22: Sídlo: | D22: Holandská 8, 639 00 Brno
C23: CISR: | D23: 20286431
B24: RSMO: | D24: Václav Kozák
B25: Číslo nabídky: | D25: C880059448
B27: Datum počátku:
B28: Frekvence placení: | D28: Roční | E28: Pololetní | G28: Čtvrtletní
D29: TRUE | E29: FALSE | G29: FALSE
B32: Pojistná částka
B34: Město nad 100 000 obyvatel
B35: Bytové jednotky | D35: Počet | E35: Cena za m2 | F35: Pojistná částka
B36: do 39 m2 | E36: 73000 | F36: =IF(39*D36*$E$36=0,"",39*D36*$E$36)
B37: 40–59 m2 | F37: =IF(59*D37*$E$36=0,"",59*D37*$E$36)
B38: 60–79 m2 | F38: =IF(79*D38*$E$36=0,"",79*D38*$E$36)
B39: 80–99 m2 | F39: =IF(99*D39*$E$36=0,"",99*D39*$E$36)
B40: 100–120 m2 | F40: =IF(120*D40*$E$36=0,"",120*D40*$E$36)
B41: 120+ m2 | F41: =IF(150*D41*$E$36=0,"",150*D41*$E$36)
E42: Celkem | F42: =SUM(F36:G41) -> 0
B44: Město do 100 000 obyvatel
B45: Bytové jednotky | D45: Počet | E45: Cena za m2 | F45: Pojistná částka
B46: do 39 m2 | E46: 63000 | F46: =IF(39*D46*$E$46=0,"",39*D46*$E$46)
B47: 40–59 m2 | F47: =IF(59*D47*$E$46=0,"",59*D47*$E$46)
B48: 60–79 m2 | F48: =IF(79*D48*$E$46=0,"",79*D48*$E$46)
B49: 80–99 m2 | F49: =IF(99*D49*$E$46=0,"",99*D49*$E$46)
B50: 100–120 m2 | F50: =IF(120*D50*$E$46=0,"",120*D50*$E$46)
B51: 120+ m2 | F51: =IF(150*D51*$E$46=0,"",150*D51*$E$46)
E52: Celkem | F52: =SUM(F46:G51) -> 0
B54: Pojistná částka pro FLEXA1): | E54: =B92 -> 0
B55: 1) FLEXA (Požár a související nebezpečí, tj. požár a jeho průvodní jevy, výbuch, úder blesku, zřícení letadla)
B57: Pojištění budov
B58: Veškeré stavební součásti, předměty a objekty, které jsou pevně spojeny s nemovitostí (např. obklady, sanita, příčky, skleněné výplně, vestavěné skříně, kuchyňské linky, podlahy, výmalba, topení, klimatizace, podhledy, hlásiče požáru apod.) tvoří jeden pojistný celek a jsou ze strany Allianz pojišťovny a.s. považovány za součást pojištěné budovy. Jejich hodnota je zahrnuta do pojistné částky nemovitosti a jako takové jsou kryté pojištěním nemovitosti.
B59: Roční limit pojistného plnění | D59: Spoluúčast
D60: 1000 | E60: 5000 | F60: 10000 | G60: 20000
B61: 30000000 | D61: FALSE | E61: TRUE | F61: FALSE | G61: FALSE
B62: 50000000 | D62: FALSE | E62: FALSE | F62: FALSE | G62: FALSE
B63: 75000000 | D63: FALSE | E63: FALSE | F63: FALSE | G63: FALSE
B65: Rizika, na která se vztahuje vybraný limit plnění a spoluúčast:
B66: – Vichřice - krupobití – Povodeň a záplava – Voda z vodovodního zařízení – Zemětřesení – Sesuv půdy | E66: – Lavina a tíha sněhu – Sprinklerové hasicí zařízení – Náraz vozidla, kouř, rázová vlna – Pád stromů, stožárů a jiných věcí
B68: Pojištění odpovědnosti
B70: Limit pojistného plnění (základní pojištění) | D70: Spoluúčast
D71: 1000 | E71: 5000 | F71: 10000 | G71: 20000
B72: 5000000 | D72: FALSE | E72: FALSE | F72: FALSE | G72: FALSE
B73: 10000000 | D73: FALSE | E73: FALSE | F73: FALSE | G73: FALSE
B74: 20000000 | D74: FALSE | E74: TRUE | F74: FALSE | G74: FALSE
B75: 50000000 | D75: FALSE | E75: FALSE | F75: FALSE | G75: FALSE
B77: Rozšíření pojištění odpovědnosti: Škody nebo újmy způsobené výkonem funkce člena statutárního orgánu společenství vlastníků a/nebo při výkonu funkce statutárního orgánu družstva při správě pojištěného bytového domu
B79: Limit pojistného plnění (škody členů statutárního orgánu) | D79: Spoluúčast
D80: 1000 | E80: 5000 | F80: 10000 | G80: 20000
B81: =Sazby!G33 -> 10000000 | D81: FALSE | E81: TRUE | F81: FALSE | G81: FALSE
B84: Shrnutí
D86: Limit | F86: Spoluúčast | G86: Pojistné
B87: Pojištění budov | D87: =Sazby!G19 -> 30000000 | F87: =Sazby!G22 -> 5000 | G87: =Sazby!I20 -> 0
B88: Pojištění odpovědnosti | D88: =Sazby!H27 -> Nejdříve vyplňte PČ | F88: =Sazby!H30 | G88: =Sazby!J28
B89: Pojištění škod členů statutárního orgánu | D89: =Sazby!H33 -> Nejdříve vyplňte PČ | F89: =Sazby!H36 | G89: =Sazby!J34
B91: Celková pojistná částka | E91: Celkové pojistné
B92: =IF((F42+F52)>300000000,"Nutné individuální posouzení",(F42+F52)) -> 0 | E92: =SUM(G87:G89) -> 0

Sheet Tabulka připojištění
B1: Exkluzivní produkt Bytasen
B2: Příloha č. 1 - rozsah sjednaného připojištění
B3: Pojistná částka budovy: | D3: =Kalkulace!F42+Kalkulace!F52 -> 0
B4: Celkový roční limit pojistného plnění 1) | D4: =CEILING(IF((Kalkulace!F42*0.1)+(Kalkulace!F52*0.1*1.13698630136986)>10000000,10000000,(Kalkulace!F42*0.1)+(Kalkulace!F52*0.1*1.13698630136986)),100000) -> 0 | F4: Spoluúčast: 1.000,- Kč
B5: Sjednané připojištění | C5: Jednotlivé roční limity pojistného plnění | D5: Pojištěné riziko
D6: Požár a související nebezpečí | E6: Voda z vodovodního zařízení | F6: Vichřice, krupobití | G6: Povodeň a záplava | H6: Ostatní nebezpečí | I6: Krádež vloupáním | J6: Atmosférické srážky (čl. 8, odst. 5, ZPP-MP) | K6: Poškození zateplené fasády zvířaty a hmyzem (čl. 8, odst. 6, ZPP-MP) | L6: Vandalismus + sprejerství (čl. 8, odst. 3, ZPP-MP) | M6: Loupež (čl. 8, odst. 2, ZPP-MP 1/15) | N6: Rozbití skla (čl. 19, ZPP-MP) ve společně vlastněných částech nemovitosti | O6: Připojištění elektroniky (čl. 13, ZPP-MP) vč. přepětí (čl. 8, odst. 4., ZPP-MP) na elektrických zařízení budovy | P6: Pojištění strojů a zařízení (ZPP-ST)
B7: Náklady na vyklizení místa pojištění (čl.10, odst.1.2., písm. c) + 2.2., písm. h) ZPP-MP) | C7: 1000000 | D7: =$D$4 -> 0 | E7: =$D$4 -> 0 | F7: =$D$4 -> 0 | G7: =$D$4 -> 0 | H7: =$D$4 -> 0 | I7: =0.1*$D$4 -> 0 | J7: =0.1*$D$4 -> 0 | K7: =0.1*$D$4 -> 0 | L7: =0.025*$D$4 -> 0 | M7: =0.01*$D$4 -> 0 | N7: =0.025*$D$4 -> 0 | O7: =0.025*$D$4 -> 0 | P7: =0.025*$D$4 -> 0
B8: Základní pojištění přerušení provozu (čl. 27 ZPP-MP) vč. nákladů na náhradní ubytování (odchylně od. čl. 30, odst. 1.4., ZPP-MP) s max. limitem 30.000,- Kč / bytovou jednotku | C8: 250000 | D8: =0.1*$D$4 -> 0 | E8: =0.1*$D$4 -> 0 | F8: =0.1*$D$4 -> 0 | G8: =0.1*$D$4 -> 0 | H8: =0.1*$D$4 -> 0 | I8: =0.025*$D$4 -> 0 | J8: =0.025*$D$4 -> 0 | K8: =0.025*$D$4 -> 0 | L8: =0.025*$D$4 -> 0 | M8: =0.01*$D$4 -> 0 | N8: =0.025*$D$4 -> 0 | O8: =0.025*$D$4 -> 0 | P8: =0.025*$D$4 -> 0
B9: Pojištěná budova vč. stavebních součástí pojištěné budovy (čl.10, odst. 1.2., písm. b), ZPP-MP) | C9: 500000 | D9: _ | E9: _ | F9: _ | G9: _ | H9: _ | I9: =0.1*$D$4 -> 0 | J9: =0.1*$D$4 -> 0 | K9: =0.1*$D$4 -> 0 | L9: =0.1*$D$4 -> 0 | M9: =0.01*$D$4 -> 0 | N9: =0.1*$D$4 -> 0 | O9: =0.1*$D$4 -> 0 | P9: =0.1*$D$4 -> 0
B10: Stavební součásti pojištěné budovy (čl. 10, odst. 1.2., písm. b) ZPP-MP) Stavební součásti a úpravy (čl. 10, odst. 2.2., písm. e) ZPP-MP) | C10: 50000 | D10: pojištěno | E10: pojištěno | F10: pojištěno | G10: pojištěno | H10: pojištěno | I10: pojištěno | J10: pojištěno | K10: _ | L10: pojištěno | M10: _ | N10: _ | O10: pojištěno | P10: pojištěno
B11: Náklady na úhradu vodného a stočného v přímé souvislosti s únikem vody z vodovodního zařízení (čl. 7 , odst. 2.5., písm. e) ZPP-MP) | C11: 50000 | D11: _ | E11: =0.01*$D$4 -> 0 | F11: _ | G11: _ | H11: _ | I11: _ | J11: _ | K11: _ | L11: _ | M11: nepojištěno | N11: _ | O11: _ | P11: _
B12: Náklady na výměnu zámků (čl.10, odst.1.2., písm. d) + 2.2., písm. i) ZPP-MP) | C12: 50000 | D12: =0.025*$D$4 -> 0 | E12: =0.025*$D$4 -> 0 | F12: =0.025*$D$4 -> 0 | G12: =0.025*$D$4 -> 0 | H12: =0.025*$D$4 -> 0 | I12: =0.025*$D$4 -> 0 | J12: _ | K12: _ | L12: _ | M12: pojištěno | N12: _ | O12: =0.01*D4 -> 0 | P12: =0.01*D4 -> 0
B13: Náklady na obnovení dokumentace (čl. 10, odst. 2.2., písm. g) ZPP-MP) | C13: 50000 | D13: =0.025*$D$4 -> 0 | E13: =0.025*$D$4 -> 0 | F13: =0.025*$D$4 -> 0 | G13: =0.025*$D$4 -> 0 | H13: =0.025*$D$4 -> 0 | I13: =0.025*$D$4 -> 0 | J13: =0.025*$D$4 -> 0 | K13: _ | L13: =0.025*D4 -> 0 | M13: pojištěno | O13: =0.025*D4 -> 0 | P13: _
B14: Vlastní věci movité uložené mimo místo pojištění (čl.10, 2.2., písm. f) ZPP-MP) | C14: 50000 | D14: =0.025*$D$4 -> 0 | E14: =0.025*$D$4 -> 0 | F14: =0.025*$D$4 -> 0 | G14: =0.025*$D$4 -> 0 | H14: =0.025*$D$4 -> 0 | I14: =0.025*$D$4 -> 0 | J14: =0.025*$D$4 -> 0 | K14: _ | L14: =0.025*D4 -> 0 | M14: pojištěno | N14: _ | O14: _ | P14: _
B15: Věci v majetku vlastníků a nájemců jednotek uložených ve společných prostorách k tomu určených (pouze věci, které se obvykle do společných prostor ukládají). Předmětem pojištění nejsou cennosti a starožitnosti (čl. 10, odst. 2.2., písm. b. a d., ZPP-MP) max. 25.000,- Kč/1 věc | C15: 250000 | D15: =0.025*$D$4 -> 0 | E15: =0.025*$D$4 -> 0 | F15: =0.025*$D$4 -> 0 | G15: =0.025*$D$4 -> 0 | H15: =0.025*$D$4 -> 0 | I15: =0.025*$D$4 -> 0 | J15: _ | K15: _ | L15: _ | M15: pojištěno | N15: _ | O15: _ | P15: _
B16: Věci movité: výrobní, provozní zařízení, zásoby a cizí věci převzaté SVJ nebo SVJ užívané (čl.10, 2.1., ZPP-MP), cizí věci (čl.10, 2.2., písm. a) ZPP-MP) | C16: 250000 | D16: =0.025*$D$4 -> 0 | E16: =0.025*$D$4 -> 0 | F16: =0.025*$D$4 -> 0 | G16: =0.025*$D$4 -> 0 | H16: =0.025*$D$4 -> 0 | I16: =0.025*$D$4 -> 0 | J16: =0.025*$D$4 -> 0 | K16: _ | L16: _ | M16: pojištěno | N16: _ | O16: =0.01*D4 -> 0 | P16: =0.01*D4 -> 0
B17: Peníze ceniny (čl. 10, odst. 2.2., písm. b) ZPP-MP), odchylně od téhož čl. uložené v místnosti min. se základním mechanickým zabezpečením dle 1.1.2.1. DPP-P | C17: 2000000 | D17: =0.01*$D$4 -> 0 | E17: =0.01*$D$4 -> 0 | F17: =0.01*$D$4 -> 0 | G17: =0.01*$D$4 -> 0 | H17: =0.01*$D$4 -> 0 | I17: =0.01*$D$4 -> 0 | J17: _ | K17: _ | L17: _ | M17: pojištěno | N17: _ | O17: _ | P17: _
B18: Vedlejší stavby dle čl. 40 odst. 14 ZPP-MP | C18: 500000 | D18: =0.5*$D$4 -> 0 | E18: =0.5*$D$4 -> 0 | F18: =0.5*$D$4 -> 0 | G18: =0.5*$D$4 -> 0 | H18: =0.5*$D$4 -> 0 | I18: =0.1*$D$4 -> 0 | J18: =0.1*$D$4 -> 0 | K18: _ | L18: =0.05*$D$4 -> 0 | M18: =0.01*$D$4 -> 0 | N18: =0.05*$D$4 -> 0 | O18: =0.05*$D$4 -> 0 | P18: =0.05*$D$4 -> 0
B19: 1)Celkový roční limit pojistného plnění je maximální úhrnný limit pro všechna připojištění

Sheet Smluvní ujednání Renomia
B1: Exkluzivní produkt Bytasen
B3: SMLUVNÍ UJEDNÁNÍ RENOMIA K POJIŠTĚNÍ MAJETKU, PŘERUŠENÍ PROVOZU A ODPOVĚDNOSTI PODNIKATELŮ (SME) 2024
B5: Příloha k pojistné smlouvě číslo: | G5: Zvolená varianta limitů plnění: | J5: I. | L5: II. | N5: III.
B7: Pokud je některé ustanovení těchto smluvních ujednání v rozporu s ustanovením vlastního textu pojistné smlouvy, pojistných podmínek nebo doložek, má přednost to ustanovení, které je pro pojištěného výhodnější, není-li v pojistné smlouvě výslovně ujednáno jinak. Níže v textu jsou používána následující označení:
B8: VPP-P ZPP-MP ZPP-OP ZPP-ST DPP | C8: Všeobecné pojistné podmínky pro pojištění podnikatelů Zvláštní pojistné podmínky pro pojištění majetku podnikatelů Zvláštní pojistné podmínky pro pojištění odpovědnosti podnikatelů Zvláštní pojistné podmínky pro pojištění strojů a zařízení Doplňkové pojistné podmínky zabezpečení místa pojištění proti krádeži vloupáním a loupeži
B10: OBECNÁ UJEDNÁNÍ RGA2. Hrubá nedbalost Odchylně od článku 39 odst. 2 ZPP-MP a článku 20 odst. 8.1 ZPP-OP se ujednává, že za hrubou nedbalost se nepovažuje jednání, které bylo příčinou vzniku škodní události a pro které byl pojištěný, jeho statutární orgán, zákonný zástupce nebo zmocněnec, osoba pojištěnému nebo jeho statutárnímu orgánu blízká, pravomocně odsouzena pro nedbalostní trestný čin. RGA3. Informační povinnost Informační (oznamovací) povinnost pojištěného/pojistníka vůči pojistiteli je v případě právnické osoby plněna pouze prostřednictvím vedení společnosti a osob k plnění informační povinnosti vedením určených. Pro účely posouzení porušení informační (oznamovací) povinnosti pojištěného/pojistníka vůči pojistiteli se v případě právnické osoby vychází výhradně z jednání vedení společnosti a osob k plnění informační povinnosti vedením určených. Za vedení společnosti se považuje statutární orgán (příp. jeho členové) a osoby do svých funkcí statutárním orgánem jmenované. RGA5. Pojistné při zániku pojistné smlouvy na dobu určitou Byla-li pojistitelem v pojistné smlouvě uzavřené na dobu určitou (např. na 3 roky) poskytnuta pojistníkovi sleva z pojistného za dlouhodobost, náleží pojistiteliv případě pojistníkem vyvolaného zániku pojistné smlouvy takto poskytnutá sleva zpět, a to pouze za tu část pojistné doby, po kterou bylo pojištění v platnosti(tj. za skutečnou dobu pojištění). RGA15A. Škoda úmyslně způsobená pojištěným Čl. 5 odst. 1 písm. a) ZPP-MP se nahrazuje dále uvedeným textem: Z pojištění nevzniká právo na plnění za škodu způsobenou úmyslně pojištěným, pojistníkem, oprávněnou osobou nebo jinou osobou z podnětu některého z nich. RGA17. Zachraňovací náklady – rozšíření definice Odchylně od článku 17 odst. 4 VPP-P se ujednává, že ostatní zachraňovací náklady uvedené v článku 17 odst. 1 VPP-P uhradí pojistitel maximálně do výše 10 % horní | J10: RALP2. Pojištění strojů a zařízení Ve smyslu čl. 1 – 5, čl. 6 odst. 3, čl. 8, čl. 10 a čl. 11 ZPP-ST se pojištění vztahuje také na připojištění pojištění strojů a zařízení.Pojistitel uhradí jednu a všechny škody, na které se vztahuje pojištění podle tohoto odstavce, v rámci jednoho pojistného roku maximálně do výše limitu podle zvolené varianty. RALP3. Nespecifikované vedlejší stavby Odchylně od článku čl. 10 odst. 1.2 ZPP-MP se pojištění budov automaticky vztahuje také na vedlejší stavby a příslušenství budovy jako např. garáže, přístřešky, ploty, dětská hřiště. Pojištění se vztahuje i na budovy, stavby nebo mobilní buňky s dřevěnou nebo ocelovou nosnou konstrukcí a s opláštěním z rostlého dřeva (např. prkna, fošny, kulatina, půlkulatina apod.) a/nebo z desek na bázi dřeva a papíru (jako např. dřevotřískové, pilinové desky, překližky, desky z odpadní papírové hmoty apod.) a/nebo s lehkou kovovou konstrukcí textilním opláštěním a/nebo nafukovací haly. Roční limit pojistného plnění pro tyto škody je 10 % z celkové pojistné částky nebo limitu plnění pro dané pojistné nebezpečí, maximálně do limitu dle sjednané varianty.RALP4. Stavební součásti budovy Odchylně od článku 10 odst. 1.2 písm. b) ZPP-MP a od čl. 10 odst. 2.2 písm. e)ZPP-MP se pojištění vztahuje také na stavební součásti a úpravy pojištěné budovy a/nebo stavební součásti a úpravy provedené na náklady pojištěného. Pojistitel uhradí jednu a všechny škody, na které se vztahuje pojištění podle tohoto odstavce, v rámci jednoho pojistného roku maximálně do výše limitu podle sjednané varianty. RALP5. Loupež Odchylně od článku 8 odst. 2 ZPP-MP se pojištění vztahuje také na loupež.Pojistitel uhradí jednu a všechny škody, na které se vztahuje pojištění podle tohoto odstavce, v rámci jednoho pojistného roku maximálně do výše limitu podle sjednané varianty. RALP6. Poškození zásob v chladicím/mrazicím zařízení Odchylně od článku 8 odst. 7 ZPP-MP se pojištění vztahuje také na poruchu
B11: hranice pojistného plnění z jedné pojistné události ujednané v pojistné smlouvě, maximálně však 10 000 000 Kč. Pojistitel uhradí též náklady na nouzové zabezpečení, zajištění nebo dočasné přemístění majetku v souvislosti s bezprostředně hrozící pojistnou událostí nebo po pojistné události. RGPA21. Náklady na znalecké posudky Jestliže škoda spojená s povinností poskytnout pojistné plnění přesáhne částku 1 000 000 Kč, ujednává se tímto, že pojistitel uhradí náklady znaleckého řízení na zjištění rozsahu škody, které by byl jinak nesl pojištěný. Tyto náklady se pojistitel zavazuje nahradit do výše 3 % z uznané výše škody, maximálně do výše limitu podle sjednané varianty, pokud není v pojistné smlouvě uvedeno jinak. Za náklady znaleckého řízení se považují takové náklady, které byly vynaloženy za účelem zjištění výše pojistného plnění. RGPA22. Náklady na vlastní administrativní činnost Pojištění se vztahuje také na náklady, které pojištěný účelně a prokazatelně vynaloží na vlastní administrativní činnost spojenou s řešením pojistné události. Pro tyto náklady se sjednává roční limit pojistného plnění ve výši dle sjednané varianty. RPD54. Smluvní ujednání – odpočet DPH od pojistného plnění Je-li pojištěný nebo poškozený v době pojistné události plátcem daně z přidané hodnoty (DPH), potom se uvedená daň ve výši odpočtu, který je pojištěný oprávněn uplatnit u správce daně, nezahrnuje do pojistného plnění. Pokud je pojistiteli prokázáno, že příjemce pojistného plnění DPH, resp. její část neuplatňuje u správce daně na základě zákona 235/2004 Sb., pak je tato část DPH zahrnuta do výplaty pojistného plnění. POJIŠTĚNÍ MAJETKU Ujednává se, že je-li v pojistné smlouvě sjednáno pojištění majetku, vztahují se k tomuto pojištění také níže uvedená smluvní ujednání pro pojištění majetku. RALP1. Elektrická zařízení pojištěných budov Ve smyslu čl. 13 – čl. 18 ZPP-MP se pojištění vztahuje také na připojištění elektroniky | J11: chladicího zařízení. Škodami způsobenými poruchou chladicího zařízení se rozumí škody na věcech movitých uložených v chladicím zařízení vzniklé v důsledku prokazatelné poruchy chladicího zařízení nebo náhlého a neočekávaného výpadku dodávky elektrické energie. Na úhradu škod vzniklých dle předchozího odstavce poskytne pojistitel pojistné plnění max. do limitu dle sjednané varianty z jedné a všech pojistných události nastalých v průběhu jednoho pojistného roku se spoluúčastí 1 000 Kč. RGPA3. Tolerance podpojištění Je-li pojistná částka v době pojistné události nižší než pojistná hodnota, sníží pojistitel pojistné plnění ve stejném poměru, v jakém je výše pojistné částky ke skutečné výši pojistné hodnoty pojištěného majetku. Pojistitel neuplatnípodpojištění v případě, že hodnota pojištěného majetku není v době pojistné události vyšší než 120 % ujednané pojistné částky. To neplatí, ujednají-li strany, že pojistné plnění sníženo nebude. RGPA5A. Plnění pojistitele bez odpočtu opotřebení – 75 % Odchylně od článku 12 odst. 5 ZPP-MP poskytne pojistitel pojistné plnění v nové ceně, pokud míra opotřebení věci nebude v době vzniku pojistné události větší než 75 %. RGPA6. Cizí věci movité – plnění v nových cenách Pokud jsou cizí věci movité pojištěny na novou cenu ve smyslu čl. 11 odst. 4 ZPP-MP, pak se ujednává, že v případě pojistné události pojistitel poskytne náhradu nákladů na znovupořízení věci v době pojistné události sníženou o cenu případných zbytků bez odpočtu opotřebení. RGPA7. Cizí věci movité – automatické pojištění v případě přechodu vlastnictví – na pojištěného Odchylně od čl. 7 odstavce 13 VPP-P se ujednává, že pojištěné cizí věci movité, které pojištěný užívá na základě leasingových, nájemních či jiných smluv, jsou v případě převodu do vlastnictví pojištěného automaticky pojištěny v rozsahu
B12: vč. přepětí na elektrických zařízeních pojištěné budovy. Pojistitel uhradí jednu a všechny škody, na které se vztahuje pojištění podle tohoto odstavce, v rámci jednoho pojistného roku maximálně do výše limitu podle sjednané varianty. RGPA9. Místa pojištění na území Evropy Pojištění se vztahuje i na pojištěné věci movité a zásoby uložené mimo místo pojištění (čl. 10 odst. 2.2 písm. f) ZPP-MP) nad rámec čl. 9 odstavce 1 ZPP-MP na území Evropy. Toto ujednání se vztahuje i na mobilní zařízení, které pojištěný zapůjčil na základě písemné smlouvy obchodním partnerům na území Evropy. Rozsah pojištění, podmínky zabezpečení a spoluúčasti se řídí ustanoveními sjednanými v pojistné smlouvě. Toto pojištění se sjednává s limitem plnění 25 % ze sjednaných pojistných částek pro věci movité a zásoby, maximálně do výše limitu podle sjednané varianty. RGPA10. Spoluúčast – pojistná událost na více souborech Ujednává se, že v případě pojistné události na více pojištěných souborech (z téže příčiny) odečte pojistitel pouze jednu spoluúčast, a to nejvyšší sjednanou, pokud není pro klienta výhodnější odečtení spoluúčastí z jednotlivých předmětů pojištění, jichž se pojistná událost týká. Toto se vztahuje také na případy, kdy pojistná událost nastane z téže příčiny na více místech pojištění. RGPA11. Spoluúčast – pojistná událost vzniklá z více pojistných nebezpečí Ujednává se, že v případě pojistné události vzniklé působením více pojistných nebezpečí (bez ohledu na skutečnost zda vznikne na jednom nebo na více pojištěných souborech) odečte pojistitel pouze jednu spoluúčast, a to nejvyšší sjednanou, pokud není pro klienta výhodnější odečtení spoluúčastí z jednotlivých pojistných nebezpečí a předmětů, jichž se pojistná událost týká. RGPA15A. Provozně nevyužívané budovy Odchylně od článku 5 odst. 1 písm. e) ZPP-MP se pojištění vztahuje i budovu nebo její část, která nebyla před vznikem škodní události ani v době vzniku škodní události využívána nebo nebyla provozně využívaná k účelu, k němuž je určena. Podmínky tohoto pojištění jsou ujednány v doložce DMP 009. | J12: sjednané pojistné smlouvy RGPGL2. Oprava Odchylně od čl. 22 odst. 1 ZPP-MP pojistitel poskytne nad rámec ujednaného limitu pojistného plnění pro připojištění skla náhradu nákladů vynaložených v příčinné souvislosti s pojistnou události z připojištění skla na: a) speciální povrchovou úpravu zasklení (např. nátěr, malba, písmo, lept a jiné), b) na provizorní opravu zasklení, c) na lešení nebo jiné pomocné prostředky nutné k provedení opravy zasklení, d) na montáž a demontáž stavebních součástí nutnou k provedení osazení okenních tabulí či opravy zasklení (např. ochranných mříží, markýz, apod.). Limit pro položky pod body a) – d) se sjednává ve výši 30 %, max. do výše limitu pojistného plnění dle sjednané varianty pro připojištění skla pro každou z položek, pokud není v pojistné smlouvě ujednáno jinak. RGPGL3. Poškození skla poškrábání Pojistitel uhradí náklady na výměnu skla, které bylo poškozeno poškrábáním či jiným poškozením, pokud je výměna nutná z hlediska bezpečnosti. RGPOV2. Vandalismus Ve smyslu čl. 8 odst. 3 ZPP-MP se pojištění vztahuje také na vandalismus. Odchylně od článku 8 odst. 3.3 ZPP-MP se ujednává, že u pojistného nebezpečí vandalismus je spoluúčast 1 000 Kč. Pojistitel uhradí jednu a všechny škody, na které se vztahuje pojištění podle tohoto odstavce, v rámci jednoho pojistného roku maximálně do výše limitu podle sjednané varianty. RGPOV3. Odcizení elektronického zařízení Je-li touto pojistnou smlouvou sjednáno pojištění elektronických zařízení proti odcizení, vztahuje se toto pojištění také na krádež s překonáním překážky pojištěného zařízení z motorového vozidla (osobní vozidlo, autobus apod.), vlaku a letadla, a to za podmínky, že došlo k překonání překážky chránící pojištěnou věc před odcizením. V případě prostředků hromadné dopravy je podmínkou, aby k
B13: RGPA15B. Špatný technický stav budovy Špatný technický stav budovy je takový stav budovy, který vykazuje závažné nedostatky nosných stavebních konstrukcí, střechy nebo výplní stavebních otvorů v důsledku opotřebení nebo zanedbané údržby. RGPA16. Znovupořízení věci dle nových norem, náklady na výměnu nepoškozených věcí z estetických důvodů Odchylně od článku čl. 11 odst. 4 ZPP-MP se pojištění vztahuje také na vícenáklady, které je pojištěný povinen vynaložit v souvislosti s opravou nebo pořízením nové věci stejných nebo srovnatelných vlastností z důvodu změny obecně závazných právních předpisů a/nebo technických norem proto, aby mohl poškozený pojištěný majetek dále využívat k původnímu účelu.Za náklady vynaložené na znovupořízení pojišťovaného majetku se považují i vícenáklady vynaložené na obnovu nepoškozených pojištěných věcí, které je nutné vyměnit z estetického důvodu pro zachování jednotného designu. Podmínkou je, že poškozený pojištěný majetek již není možné obnovit ve stejném designu a že pojištěný prokáže, že tyto náklady skutečně vynaložil.Pro vícenáklady způsobené změnou právních předpisů, které nejsou zahrnuty v pojistné částce, a vícenáklady vyvolané z estetických důvodů se sjednává roční limit pojistného plnění ve výši dle sjednané varianty. RGPA20. Znovupořízení věci v případě ukončení její výroby Pojistitel v případě zničení nebo ztráty předmětu pojištění uhradí náklady na pořízení zařízení s lepšími technickými parametry, pokud se zařízení shodných parametrů již nevyrábí. V tomto případě pojistitel uhradí plnění odpovídající ceně zařízení, jehož parametry se nejvíce blíží předmětu pojištění. Roční limit pojistného plnění pro tyto vícenáklady se sjednává ve výši dle sjednané varianty. RGPA24. Vícenáklady na díla historické nebo umělecké hodnoty Dojde-li v důsledku pojistné události ke zničení, poškození nebo odcizení děl historické nebo umělecké hodnoty, která jsou stavební součástí pojištěné budovy, ale nebyla zohledněna při stanovení pojistné částky budovy, poskytne pojistitel na jejich opravu | J13: odcizení došlo z uzamčeného zavazadlového prostoru. Pro mobilní elektronické zařízení pevně spojené s vozidlem se za dostatečné překonání překážky považuje překonání uzamčení motorového vozidla. Na úhradu škod vzniklých dle předchozího odstavce poskytne pojistitel pojistné plnění max. do limitu podle sjednané varianty, a to z jedné a všech škod nastalých v průběhu jednoho pojistného roku. RGPOV5. Kamerové systémy – změna podmínek zabezpečení Je-li touto pojistnou smlouvou sjednáno pojištění pro případ krádeže stavebních součástí budov nebo ostatních staveb vloupáním, považuje se za stavební součást také kamerový systém. Pojistitel poskytne pojistné plnění v případě krádeže kamerového systému vloupáním i tehdy, dojde-li k jeho krádeži pouze překonáním jeho konstrukčního upevnění k objektu nebo předmětu pevně spojeném se zemí. Totéž platí, je-li touto pojistnou smlouvou sjednáno pojištění pro případ krádeže kamerového systému, který není příslušenstvím budovy nebo stavby, vloupáním. RGPOV6. Poškození stavebních součástí při snaze o vloupání Je-li touto pojistnou smlouvou sjednáno pojištění pro případ krádeže stavebních součástí vloupáním, vztahuje se toto pojištění i na poškození nebo zničení jejich stavebních součásti a příslušenství způsobené jednáním pachatele směřujícímu ke krádeži vloupáním. Pojistitel poskytne pojistné plnění za škody vzniklé dle předchozí věty až do výše horní hranice pojistného plnění sjednané pro krádež stavebních součástí. RGPOV9. Nepříčetnost Ujednává se, že pojištění vandalismu se vztahuje též na škody, které byly spáchány ve stavu nepříčetnosti. RGPSC1. Zabezpečení – skutečné překonání pachatelem Nejsou-li v době vzniku pojistné události splněny minimální požadavky na způsob zabezpečení pojištěných věcí dle DPP, ovlivní toto likvidnost škodní události či výši pojistného plnění jen tehdy, pokud nesplnění uvedeného požadavku na
B14: nebo náhradu pojistné plnění výši 10 % z pojistné částky budovy max. do limitu podle sjednané varianty. RGPA26. Náklady na obnovení dokumentace Odchylně od článku 10 odst. a odst. 2.2 písm. g) ZPP-MP se pojištění vztahuje také na náklady na obnovení výrobní, provozní a účetní dokumentace. Pojistitel uhradí jednu a všechny škody, na které se vztahuje pojištění podle tohoto odstavce, v rámci jednoho pojistného roku maximálně do výše limitu podle sjednané varianty. RGPA29. Věci zvláštní hodnoty - pojistné plnění Pokud vznikla pojistná událost na věci umělecké, historické nebo sběratelské hodnoty, vyplatí pojistitel v případě poškození částku odpovídající nákladům na jejich uvedení do původního stavu. Za znehodnocení vyplatí pojistitel částku odpovídající rozdílu mezi obvyklou cenou v době bezprostředně před vznikem pojistné události a obvyklou cenou po pojistné události. Pokud došlo ke zničení nebo ztrátě bude vyplaceno pojistné plnění odpovídající obvyklé ceně věci v době bezprostředně před vznikem pojistné události. Pojistné plnění je v případě poškození a znehodnocení omezeno obvyklou cenou věci bezprostředně před pojistnou událostí. Při škodě si od Vás vyžádáme dokumentaci o věcech zvláštní hodnoty (autor, název a popis díla, fotodokumentace, případně znalecký posudek). Při škodě od 100 000 Kč je nutné dodat znalecký posudek. RGPGL1. Součásti skla Ve smyslu čl. 19 odst. 1 ZPP-MP se připojištění skla vztahuje také na zasklení lodžií (resp. balkonů) a pevně osazené skleněné umělecké stavební prvky (skleněné mozaiky, skleněné stěny atp.), skleněná zrcadla a pevně osazená skla větší než 6 m², pokud bude mít předmět charakter zasklení stavebního otvoru nebo stavební součásti. Odchylně od čl. 19 odst. 1 ZPP-MP se připojištění skla rovněž vztahuje i na nalepené neodnímatelné snímače zabezpečovacích zařízení, nalepené fólie, nápisy, malby nebo jiné výzdoby, jsou-li součástí pojištěného skla, stejně jako na vnější osvětlení, světelné reklamy a světelné nápisy včetně jejich elektrické instalace a nosné konstrukce, sanitární keramiku a plasty nahrazující sklo. Pojištění skel se vztahuje i na skleněné části movitých věcí. | J14: zabezpečení pachateli vloupání umožní či usnadní. RGPSC6. Odcizení protiskluzových řetězů a příslušenství strojů Pojištění pro případ odcizení mobilních strojů se dále vztahuje i na příslušenství pracovních strojů (např. protiskluzové řetězy na kola – řetězy). Příslušenství musí být zabezpečeno proti odcizení tak, aby byla znemožněna manipulace s nimi, např. zatížením stroje nebo jeho příslušenstvím o hmotnosti min. 1 t nebo vyzvednutím do výše min. 3 m nad úroveň okolního terénu. Maximální limit plnění pojistitele pro jednu pojistnou událost je podle sjednané varianty. RGPSC7. Odcizení stavebních součástí a příslušenství nemovitého objektu Je-li touto pojistnou smlouvou sjednáno pojištění stavebních součástí proti krádeži vloupáním, potom se v souladu se ZPP-MP ujednává, že pojistitel poskytne pojistné plnění i v případě stavebních součástí, pokud budou tyto s nemovitým objektem pevně spojeny konstrukčním upevněním. Dále se ujednává, že se za stavební součást považují rovněž reklamní panely na nich umístěné i reklamní panely samostatně stojící na konstrukci pevně spojené se zemí. Za překonání ochranného zabezpečení se v tomto případě považuje překonání jejich konstrukčního upevnění k opláštění budovy, ostatní stavby nebo se zemí RGPZI20. Vodné, stočné Ve smyslu čl. 7 odst. 2.5 písm. e) ZPP-MP se pojištění vztahuje také na náklady vynaložené na vodné a stočné účtované za únik vody, ke kterému došlo v souvislosti s únikem vody z vodovodního zařízení v důsledku jeho poruchy. Pojištění podle tohoto odstavce se sjednává s limitem plnění dle sjednané varianty a bez spoluúčasti, pokud není v pojistné smlouvě ujednán vyšší limit plnění RGPZI21. Atmosférické srážky, zatečení Pojištění se vztahuje také na poškození nebo zničení pojištěných věcí v důsledku atmosférických srážek (čl. 8 odst. 5 ZPP-MP). Pojištění podle tohoto odstavce se sjednává s limitem plnění dle sjednané varianty a spoluúčastí 1 000 Kč, pokud
B15: Pojistné plnění je omezeno PČ nebo limitem pojistného plnění sjednaného v pojistné smlouvě pro pojištění skel. Pro elektrické instalace a nosné konstrukce (stavební součásti budov) se sjednává limit plnění ve výši dle sjednané varianty. RGPSC9. Cennosti – zabezpečení Odchylně od článku 10 odst. 2.2 písm. b) ZPP-MP se ujednává, že pojištění se vztahuje i na cennosti, pokud byly v době pojistné události uložené v místnosti min. se základním mechanickým zabezpečením dle článku 1.1.2.1 DPP. Max. roční limit pojistného plnění dle tohoto ujednání je podle sjednané varianty. RGPSC9A. Denní tržba – navýšení limitu hotovosti Odchylně od článku 10 odst. 2.2 písm. c) ZPP-MP se pojištění vztahuje na denní tržbu přijatou registrační pokladnou (čl. 10 odst. 2.2 písm. c) ZPP-MP) vč. hotovosti vložené do pokladny před zahájením prodeje. Pro hotovost vloženou do pokladny před zahájením prodeje se stanovuje limit a to maximálně ve výši 20 % průměrné denní tržby. RGPSC14. Odcizení hasicí techniky Je-li touto pojistnou smlouvou sjednáno pojištění pro případ krádeže stavebních součástí vloupáním, vztahuje se toto pojištění také na hasicí zařízení umístěných uvnitř budovy (hadice, proudnice, ruční hasicí přístroje apod.), a to i v případě, že pachatel nepřekonal překážky bránící odcizení těchto věcí. Na úhradu škod nastalých dle předchozí věty však pojistitel poskytne pojistné plnění pouze z jedné pojistné události nastalé v průběhu pojistného roku, a to v rámci horní hranice pojistného plnění sjednané pro krádež stavebních součástí vloupáním, nejvýše však do výše podle sjednané varianty. RGPTR2. Podmínky zabezpečení, dopravní nehoda Pokud je sjednáno pojištění nákladu, pak se ujednává, že pojistitel poskytne pojistné plnění za odcizení, je-li předmět pojištění v době vzniku pojistné události umístěn v uzavřeném zavazadlovém nebo nákladovém prostoru motorového vozidla nebo v uzavřené schránce nebo je předmět pojištění pevně spojen s motorovým vozidlem. Za uzavřený prostor se považuje také prostor uzavřený neprůhlednou plachtou. Pojistitel poskytne pojistné plnění také v případě, jestliže byly přepravované věci, | J15: není v pojistné smlouvě ujednán vyšší limit plnění. RGPZI22. Základní pojistné nebezpečí (FLEXA) – upřesnění definice Ujednává se, že základní pojistné nebezpečí (FLEXA) se vztahuje též na: a) škody způsobené letícím tělesem lehčím než vzduch a tělesem bez osádky (řízené na dálku i autonomní), b) škody způsobené implozí. Je-li sjednáno pojištění přerušení provozu, uhradí pojistitel též finanční škodu způsobenou přerušením nebo omezení provozu v rozsahu sjednaném v pojistné smlouvě. RGPZI23. Hoření a žhnutí (požár bez plamene) Je-li pojištění sjednáno dle pojistných podmínek pro vyjmenovaná pojistná nebezpečí, ujednává se, že pojistitel odchylně od příslušných pojistných podmínek poskytne pojistné plnění v rámci pojistného nebezpečí požár též za škody způsobené ohněm bez plamene (např. doutnáním, žhnutím). Pro takto vzniklé škody se sjednává roční limit plnění dle sjednané varianty. RGPZI29. Náklady vynaložené na výměnu zámků Ujednává se, že se pojištění vztahuje na úhradu nákladů účelně vynaložených v souvislosti s výměnou vložky zámků (včetně nákladů na výrobu stejného množství klíčů, které existovaly k nahrazovaným zámkům), pokud došlo k odcizení klíčů nebo poškození či zničení zámků některým ze sjednaných pojistných nebezpečí. Na úhradu škod nastalých dle předchozí věty však pojistitel poskytne pojistné plnění maximálně do limitu dle sjednané varianty z jedné a všech takových pojistných událostí. RGPZI32. Smluvní ujednání pro věci na volném prostranství 1. Odchylně od příslušných částí ZPP-MP se pojištění vztahuje na věci movité uložené na volném prostranství. 2. Odchylně od článku 10 odst. 2.1 a odst. 2.2 písm. f) ZPP-MP se pojištění vztahuje také na výrobní a provozní zařízení, zásoby a cizí věci movité uložené na
B16: zničeny, ztraceny nebo odcizeny při dopravní nehodě. Dále se pojištění vztahuje také na případy, kdy byly přepravované věci odcizeny společně s motorovým vozidlem. RGPZI2. Povodeň bez čekací doby Odchylně od článku 7 odst. 4.3 písm. b) ZPP-MP se pojištění vztahuje i na škody způsobené povodní nebo v přímé souvislosti s povodní, která nastala v období 10 dnů (včetně) po sjednání pojištění. RGPZI3A. Tíha sněhu – zrušení čekací doby Odchylně od článku 7 odst. 5.4 ZPP-MP se pojištění vztahuje na škody způsobené tíhou sněhu, které nastaly v období 10 dnů (včetně) po sjednání pojištění. RGPZI6. Pojištění škod způsobených pádem stromů, stožárů a jiných předmětů Odchylně od článku 7 odst. 5.9 ZPP-MP a dle článku 7 odst. 5.6.1 ZPP-MP se ujednává, že se pojištění vztahuje i na případ poškození nebo zničení pojištěné věci nárazem nebo pádem, tj. nárazem dopravního prostředku včetně provozovaného pojištěným (vyjma letadel), jeho částí nebo jeho nákladu do pojištěné věci, pádem stromů, stožárů nebo jiných věcí, bez ohledu na to, zda jsou nebo nejsou součástí poškozené věci nebo součástí téhož souboru jako poškozená věc. RGPZI10. Rozšíření definice vodovodní škody V souladu s článkem 7 odst. 2.2 písm. b) ZPP-MP se vodovodním zařízením rozumí též vnitřní i vnější dešťové svody. Pojištění se též vztahuje na škody způsobené vodou v důsledku chybné funkce sprinklerového hasicího zařízení či jiného stabilního hasicího systému, vodou z akvária a vodou či párou z bazénu, sauny a podobných wellness zařízení, která unikla v důsledku náhlé poruchy, náhlého porušení celistvosti zařízení nebo jeho příslušenství a v důsledku zamrznutí dešťových svodů umístěných na obvodovém plášti budovy. Pojištění se též vztahuje na škody způsobené vodou z technologických celků (tj. potrubí a příslušenství určené ke konkrétnímu technologickému celku nebo výrobnímu celku) s ročním limitem plnění dle sjednané varianty. | J16: volném prostranství mimo místo pojištění v přímé souvislosti s provozováním podnikatelské činnosti pojištěného. 3. Odchylně od DPP se pojištění vztahuje na odcizení věcí uložených na volném prostranství, pokud došlo k překonání jejího konstrukčního upevnění k budově nebo pevně zabudovanému stavebnímu prvku. 4. Konstrukčním upevněním se rozumí obtížně rozebíratelné nebo nerozebíratelné pevné spojení pojištěné věci se stavbou. Za nerozebíratelné je považováno takové spojení, kdy pojištěnou věc nelze oddělit od stavby bez jejího poškození. Za obtížně rozebíratelné je považováno takové spojení, k jehož rozebrání je nutno použít minimálně ručního nářadí. 5. Odchylně od čl. 9 ZPP-MP a od čl. 17 ZPP-MP je místem pojištění území České republiky a Slovenské republiky. 6. Pojistitel uhradí jednu a všechny škody, na které se vztahuje pojištění podle tohoto odstavce, v rámci jednoho pojistného roku maximálně do výše limitu podle sjednané varianty. RGPZI34. Havárie rozvodů Ujednává se, že pojistitel poskytne pojistné plnění na úhradu nákladů vynaložených (např. výměna části potrubí, zazdění a omítnutí místa opravy) v souvislosti s havárií rozvodů vody, plynu, tepla, elektrické energie a odpadních potrubí z důvodu jakékoliv náhlé a nahodilé havárie. Pokud bude plněno dle tohoto smluvního ujednání, vzniká oprávněné osobě nárok na pojistné plnění z připojištění úniku vody (vodné a stočné) související s touto událostí. Toto pojištění se sjednává s ročním limitem plnění dle sjednané varianty a se spoluúčastí 1 000 Kč. RGPZI39. Znovunaplnění hasicího přístroje V případě pojistné události v důsledku požáru dle článku 7 odst. 1 ZPP-MP uhradí pojistitel znovupořízení (případně naplnění) hasicích přístrojů použitých při zásahu proti požáru, a to do limitu dle sjednané varianty, a to nad rámec pojistné částky. U škod, na které se vztahuje pojištění podle tohoto ujednání, nebude uplatněna spoluúčast.
B17: RGPZI11. Náklady na vyklizení místa pojištění Odchylně od článku 10 odst. 1.2 písm. c) a odst. 2.2 písm. h) ZPP-MP se pojištění vztahuje také na náklady na vyklizení místa pojištění. Roční limit pojistného plnění pro tyto náklady je 10 % z celkové pojistné částky nebo limitu plnění pro dané pojistné nebezpečí, maximálně do výše sjednané varianty. RGPZI13. Nepřímý úder blesku, přepětí Přepětím se rozumí výkyvy napětí v elektrické síti, které překračuje provozní charakteristiky jmenovitého napětí elektrické sítě nebo výboj statické elektřiny v atmosféře v souvislosti s úderem blesku a škody způsobené zkratem na vinutí elektromotorů. Pojištění se sjednává s limitem plnění dle zvolené varianty. RGPZI15A. Stavební práce na budově Odchylně od článku 5 odst. 1 písm. f) ZPP-MP se ujednává, že se pojištění vztahuje také na škody na budově a na věcech movitých v budově uložených, pokud v době vzniku škodní události byly na budově prováděny jakékoliv stavební práce. Podmínky tohoto pojištění jsou ujednány v Doložce DMP 010 a DMP 012. RGPZI17. Škody způsobené zvířetem nebo hmyzem Pojištění se vztahuje i na škody způsobené poškozením zateplené fasády a vnitřního zateplení pojištěných budov a/nebo staveb v místě pojištění, pokud příčinou byla destruktivní činnost zvířat nebo hmyzu na těchto částech budov. Toto pojištění se sjednává s limitem pojistného plnění dle sjednané varianty pro jedno pojistné období a se spoluúčastí pojištěného 1 000 Kč, pokud není v pojistné smlouvě ujednáno jinak. Zateplenou fasádou se rozumí vnější tepelně izolační kompozitní systém s tepelnou izolací z pěnového polystyrenu nebo z minerální vlny a s konečnou povrchovou úpravou. Vnitřním zateplením se rozumí vnitřní tepelná izolace stropů umístěná přímo pod střechou budovy a vnitřní tepelná izolace obvodových stěn. Z pojištění jsou vyloučeny všechny škody způsobené opotřebením nebo nevhodnou údržbou pojištěné budovy a/nebo vedlejší stavby. Pojištění se nevztahuje na jakékoliv následné škody spojené s tímto pojistným nebezpečím. | J17: POJIŠTĚNÍ STROJNÍCH A ELEKTRONICKÝCH RIZIK RGPA9A. Místo pojištění mobilního elektronického zařízení a mobilního pracovního stroje Ujednává se, že pro pojištěné mobilní pracovní stroje a mobilní elektronická zařízení je místem pojištění území Evropy. RGPEI6. Zařízení mimo provoz Je-li touto pojistnou smlouvou sjednáno pojištění strojních nebo elektronických rizik podle ZPP-MP část IV nebo podle ZPP-ST, vztahuje se pojištění i na zařízení převzatá pojištěným, která jsou provozuschopná, avšak v době škodní události mohou být mimo provoz, mohou na nich probíhat prohlídky či opravy, mohou být v rámci místa pojištění přepravována, přemísťována, demontována či opětovně montována. POJIŠTĚNÍ PŘERUŠENÍ PROVOZU Níže uvedená ujednání jsou platná pouze v případě, že pojištěný má sjednáno pojištění přerušení provozu podle části VI ZPP-MP. RALB1. Přerušení provozu – pojistné plnění Omezení dle čl. 30 odst. 2 ZPP-MP se nepoužije. RALB2. Přerušení provozu – doba ručení Odchylně od čl. 30 odst. 4 písm. c) ZPP-MP se ujednává, že pojistné plnění oprávněné osobě náleží i za dobu po ukončení pojištění, pokud přerušení nebo omezení provozu vzniklo v době platnosti pojištění. RGPBC1. Úplné i částečné přerušení provozu Přerušením provozu se rozumí úplné i částečné přerušení provozu (tj. omezení provozu). RGPBC2. Přerušení provozu – vícenáklady Odchylně od článku 30 odst. 1.4 se ujednává, že výše pojistného plnění za
B18: RGPMI1A. Riziko dodavatele Pojištění se vztahuje i na škody vzniklé na stroji v důsledku poškození nebo zničení, za které je podle zákona odpovědný smluvní partner nebo dodavatel pojištěného (např. poškození při úklidu nebo při pohybu smluvního partnera v provozovně pojištěného). Pojištění podle tohoto odstavce se nevztahuje na pojištění při opravě nebo údržbě stroje. Totéž platí i pro strojní přerušení provozu. Pojistitel uhradí jednu a všechny škody, na které se vztahuje pojištění podle tohoto odstavce, v rámci jednoho pojistného roku, maximálně však do limitu dle sjednané varianty. RGPMI4A. Vícenáklady Připojištění strojního zařízení se vztahuje i na: a) náhradu provozních náplní v případě úniku při poškození nebo poruše strojního zařízení, b) náklady za přesčasové hodiny, práci v noci, o sobotách, nedělích a zákonem stanovených svátcích, c) spěšnou přepravu a leteckou přepravu, d) cestovní výlohy zahraničních techniků a/nebo odborníků. Pro toto pojištění se sjednává roční limit pojistného plnění ve výši dle sjednané varianty. RGPMI5A. Vyměnitelné části stroje Odchylně od čl. 5 odst. 1 písm. ba) ZPP-ST se ujednává, že pokud dojde z téže příčiny a ve stejnou dobu i k jinému poškození pojištěného stroje, za které je pojistitel povinen plnit, poskytne pojistitel pojistné plnění i za poškození nebo zničení vyměnitelných a nahraditelných dílů, a to do výše maximálně 50 % jejich nové ceny. Pojistitel uhradí první škodu v každém roce, a to maximálně do výše dle sjednané varianty. RGPMI9. Elektronické prvky a součástky Ujednává se, že znění článku 5 odst. 3, písm. b) ZPP-ST se mění následovně: „akumulátorových baterií, elektrochemických článků.“ | J18: vícenáklady je omezena výší pojistného plnění, kterou by pojistitel musel poskytnout, pokud by tyto náklady nebyly vynaloženy. RGPBC8. Dodavatel a odběratel Odchylně od čl. 24 ZPP-MP se pojištění přerušení provozu se vztahuje i na případy, kdy škoda na věci vznikla na majetku dodavatele nebo odběratele pojištěného v důsledku působení některého z pojistných nebezpečí, proti němuž je u pojistitele pojištěno přerušení provozu pojištěného, a v důsledku této škody došlo k přerušení provozu pojištěného. Dodavatelem se přitom rozumí jakýkoliv dodavatel, výrobce nebo zpracovatel komponent, zboží nebo surovin určených pro provoz pojištěného dodávaných na základě písemné smlouvy. Rozsah krytí se řídí dle pojistných nebezpečí sjednaných v pojistné smlouvě na pojištění majetku pojištěného. Pojištění se sjednává s ročním limitem plnění dle sjednané varianty a se spoluúčastí 5 000 Kč. RGPBC9A. Dodavatel média Ujednává se, že finanční ztráta způsobená přerušením provozu pojištěného se hradí rovněž v případě, že věcná škoda vznikla na majetku dodavatele nebo na distribuční síti některým z pojistných nebezpečí, proti němuž je pojištěno přerušení provozu pojištěného, a v důsledku této škody došlo k přerušení nebo omezení provozu pojištěného. Dodavatelem se pro účely RGPBC9A rozumí dodavatel elektrického proudu, plynu, vody, tepla nebo stlačeného vzduchu. Pojištění se sjednává s ročním limitem plnění dle sjednané varianty a se spoluúčastí 5 000 Kč. RGPBC14. Přerušení provozu z důvodu škody na cizím majetku Ujednává se, že se pojištění přerušení provozu vztahuje také na škody vyplývající ze škod vzniklých na nemovitosti nebo na zařízení nemovitosti v místě pojištění, které jsou ve vlastnictví jiné osoby, a to pokud tyto škody vznikly v důsledku pojistných nebezpečí sjednaných touto pojistnou smlouvou.
B19: RGPMI11. Poškození výpadkem nebo přerušením energií & znehodnocení média Je-li touto pojistnou smlouvou sjednáno pojištění strojních nebo elektronických rizik, vztahuje se toto pojištění také na škody způsobené na pojištěném stroji nebo elektronickém zařízení výpadkem nebo přerušením dodávky plynu, vody, elektrické energie nebo jiného média (zejména způsobené přerušením nebo zastavením provozu stroje, ať již částečného nebo úplného). Odchylně od čl. 5 odst. 1 písm. bc) ZPP-ST se ujednává, že pokud dojde z téže příčiny a ve stejnou dobu i k jinému poškození pojištěného stroje, za které je pojistitel povinen plnit, poskytne pojistitel pojistné plnění i za poškození nebo zničení provozních prostředků, a to do výše maximálně 50 % jejich nové ceny. Pojistitel uhradí první škodu v každém roce, a to maximálně do výše dle sjednané varianty. POJIŠTĚNÍ NÁKLADU Níže uvedená ujednání platí pouze v případě sjednání pojištění nákladu. RALP7. Pojištění nákladu – krádež V souladu s článkem 34 odst. 7 ZPP-MP se ujednává: a) pojistitel uhradí škodu na pojištěném nákladu způsobenou krádeží vloupáním do vozidla nebo krádeží vozidla, pouze pokud v době škodní události bylo celé vozidlo včetně prostoru určeného pro náklad uzamčeno, resp. celé vozidlo bylo uzamčeno a ložný prostor zcela zakryt uzamčenou plachtou. Pojištění se vztahuje pouze na krádež vloupáním, jejíž spáchání bylo potvrzeno šetřením Policie ČR. Pojištění se nevztahuje na krádež vloupáním, ke které dojde v době od 22.00 do 6.00 hodin. Pro toto pojištění se ujednává limit pojistného plnění ve výši dle sjednané varianty. b) pokud je vozidlo zaparkováno v oploceném areálu společnosti, v uzamčené garáži nebo na hlídaném parkovišti, pojistitel uhradí škodu na pojištěném nákladu způsobenou krádeží vloupáním do vozidla nebo krádeží vozidla, ke které dojde v době od 22.00 do 6.00 hodin. RGPTR1. Pojištění nákladu – vykládka a nakládka V souladu s článkem 34 odst. 3 ZPP-MP se pojištění vztahuje i na škody vzniklé při | J19: POJIŠTĚNÍ ODPOVĚDNOSTI ZA ŠKODU Ujednává se, že je-li v pojistné smlouvě sjednáno pojištění odpovědnosti, vztahují se k tomuto pojištění také níže uvedená smluvní ujednání pro pojištění odpovědnosti. RGL1. Újma z provozní činnosti Pro účely této pojistné smlouvy bude pojistitel považovat pojištěného za povinného k náhradě způsobené újmy i v případě § 2924 věty druhé zákona č. 89/2012 Sb., občanský zákoník v platném znění. Pojistitel však není povinen poskytnout plnění v případě, že se pojištěný této povinnosti zprostí z důvodu vnějšího zásahu vyšší moci, vlastním jednáním poškozeného nebo neodvratitelným jednáním třetí osoby. RALL1. Územní rozsah – EU Odchylně od čl. 3 Zvláštních pojistných podmínek pro pojištění odpovědnosti podnikatelů ZPP-OP se pojištění odpovědnosti vztahuje na pojistné události, které vzniknou na území EU, pokud není v pojistné smlouvě ujednán širší rozsah územní působnosti pojištění. RALL2. Škody na životním prostředí 1. Ujednává se, že pojištění sjednané touto pojistnou smlouvou se vztahuje i na škody na životním prostředí a škody vyplývající ze znečištění životního prostředí, v rozsahu vymezeném čl. 19 podmínek ZPP-OP. Pojistitel uhradí jednu a všechny škody, na které se vztahuje pojištění podle tohoto odstavce, v rámci jednoho pojistného roku maximálně do výše dle sjednané varianty. 2. Odchylně od čl. 19 odst. 2 písm. d) ZPP-OP se dále ujednává, že pojištění sjednané touto pojistnou smlouvou se vztahuje i na škody vzniklé v souvislosti s provozováním pozemků nebo zařízení, které slouží ke zpracování, úpravě, meziskladování, konečnému skladování či likvidaci odpadu nebo odpadních látek, pokud se jedná o odpad, který vznikl při vlastní podnikatelské činnosti pojištěného. Pojistitel uhradí jednu a všechny škody, na které se vztahuje pojištění podle tohoto odstavce, v rámci jednoho pojistného roku maximálně do výše 200 000 Kč. 3. Čl. 10 odst. 2 písm. h) ZPP-OP se na pojištění sjednané podle tohoto odstavce
B20: nakládání a vykládání nákladu. Tyto škod uhradí pojistitel nejvýše do 25 % z limitu pojistného plnění pro pojištění nákladu. RGPTR3. Pojištění věcí ponechaných ve vozidle Ujednává se, že pojištění se vztahuje i na náklad ponechaný ve vozidle po odstavení vozidla (např. po skončení pracovní doby nebo po dobu výkonu podnikatelské činnosti u zákazníka). RGPTR3A. Pojištění nákladu – cizí věci movité Odchylně od článku 33 odst. 1 ZPP-MP se pojištění vztahuje i na přepravu cizích věcí movitých za účelem zajištění vlastní podnikatelské činnosti pojištěného, pojištění se však nevztahuje na případy, kdy se jedná o přepravu nákladu na základě smlouvy o přepravě nebo zasílatelské smlouvy RALL4. Škody na věcech odložených a vnesených Ujednává se, že pojištění sjednané touto pojistnou smlouvou se vztahuje i na škody vzniklé na věcech odložených a vnesených. Pojištění se vztahuje i na vozidla zaparkovaná v hlídaných garážích a zařízeních obdobného druhu provozovaných pojištěným. Pro škody na vozidlech pojištěné tímto ustanovením se sjednává sublimit plnění 2 000 000 Kč na jednu a všechny pojistné události v pojistném roce. Pro ostatní škody na věcech odložených a vnesených (včetně věcí v zaparkovaných vozidlech) se sjednává sublimit plnění ve výši 500 000 Kč na jednu a všechny pojistné události v pojistném roce. Čl. 10 odst. 1 písm. d) a h) ZPP-OP a čl. 14 ZPP-OP se na pojištění sjednané touto pojistnou smlouvou neuplatní. Předpokladem vzniku práva na pojistné plnění z pojištění dle tohoto odstavce v případě, že výše škody přesahuje částku 5 000 Kč, je skutečnost, že odcizení věci bylo prokazatelně oznámeno Policii ČR. Vyloučena zůstává povinnost pojištěného k náhradě škody vzniklé na penězích, platebních kartách a jiných obdobných kartách určených pro platební styk, vkladních knížkách, cenných papírech, listinách, ceninách, špercích. RALL5. Újma způsobená zvířaty na porostech Ujednává se, že pojištění sjednané touto pojistnou smlouvou se vztahuje i na újmy | J20: neuplatní. RALL3. Dodavatelé a distributoři elektrické energie Odchylně od čl. 10 odst. 1 písm. v) ZPP-OP se ujednává, že pojištění sjednané touto pojistnou smlouvou se vztahuje i na škody přímo či nepřímo způsobené či vzniklé v důsledku přerušení, omezení, kolísání dodávek elektřiny, plynu, vody nebo tepla, pokud toto přerušení (omezení, kolísání) způsobil pojištěný jehož předmětem podnikání není distribuce elektřiny, plynu, vody nebo tepla. Pojistitel uhradí jednu a všechny škody, na které se vztahuje pojištění podle tohoto odstavce, v rámci jednoho pojistného roku maximálně do výše dle sjednané varianty. RGL9. Křížová odpovědnost Odchylně od čl. 10 odst. 5 písm. a) až e) ZPP-OP se pojištění vztahuje i na povinnost pojištěného k náhradě újmy, která vznikne dalším osobám pojištěným touto pojistnou smlouvou, osobám blízkým, jeho společníkům, osobám blízkým společníkům a dalším osobám, které vykonávají podnikatelskou činnost společně s pojištěným, právnické osobě, se kterou je pojištěný majetkově propojen, jeho statutárnímu orgánu (nebo členu statutárního orgánu), zákonnému zástupci nebo zmocněnci. Vyloučena však zůstává jiná újma na jmění, která nevyplývá z usmrcení, ublížení na zdraví nebo škody na věci (tzv. čistá finanční škoda) a škody způsobené: a) z důvodů opotřebení a stárnutí, nadměrného provozního nebo jiného zatížení, nepřiměřeného nebo nevhodného užívání nebo způsobené užíváním věci nemovité nebo movité v rozporu s nájemní smlouvou nebo obdobnou smlouvou, b) hrubou nedbalostí pojištěného (čl. 20 odst. 8.1 ZPP-OP).Škodu způsobenou některému ze subjektů uvedených v čl. 10 odst. 5 písm. a) až e) ZPP-OP uhradí pojistitel v rámci celkového ujednaného limitu pojistného plnění do výše dle sjednané varianty. RGL10. Finanční škody – pokuty, penále Odchylně od čl. 10 odst. 1 písm. r) a čl. 16 ZPP-OP se pojištění vztahuje i na
B21: způsobené domácími a hospodářskými zvířaty ve vlastnictví či opatrování pojištěného, vzniklé na stromech, keřích a ostatních porostech. Pro škody vymezené v první větě tohoto ujednání se sjednává sublimit plnění ve výši dle sjednané varianty za jednu a všechny pojistné události v pojistném roce. Čl. 10 odst. 1 písm. p) ZPP-OP se na pojištění sjednané touto pojistnou smlouvou neuplatní. RGL1a. Prodloužení konce pojištění Ve smyslu čl. 6 odst. 4 ZPP-OP v případě, že o povinnosti k náhradě újmy, na kterou se pojištění vztahuje, rozhoduje příslušný orgán veřejné moci, pojistitel neuplatní promlčení práva na pojistné plnění z pojištění odpovědnosti dříve, než dojde k promlčením práva na náhradu újmy, na kterou se pojištění vztahuje. RGL2. Regresní nároky Pokud bude na pojištěného vznesen následný regresní nárok vyplývající z újmy na zdraví nebo újmy na jmění, je pro účely pojistného plnění považován vždy za újmu na zdraví nebo újmu na jmění. Z hlediska posuzování územního rozsahu je rozhodné místo vzniku skutečné újmy na jmění nebo újmy na zdraví. RGL3. Regresní nároky zdravotní pojišťovny a orgánu nemocenského pojištění 1. Pojištění se vztahuje i na náhrady nákladů léčení, které zdravotní pojišťovna musela vynaložit v důsledku újmy způsobené pojištěným, a to jak zaměstnancům pojištěného, tak třetím osobám. 2. Pojištění se vztahuje i na regresní nároky orgánu nemocenského pojištění vůči pojištěnému, na regresní náhradu vyplacených dávek nemocenského pojištění (zejména § 126 zákona č. 187/2006 Sb., o nemocenském pojištění), a to jak zaměstnancům pojištěného, tak třetím osobám. 3. Pojištění se dále vztahuje i na regresní nároky příslušných orgánů veřejné správy z titulu poskytnutých dávek sociálního pojištění. RGL3a. Regresní nároky – nemocenské pojištění Odchylně od čl. 9 odst. 7 ZPP-OP se pojištění vztahuje na náhradu nákladů léčení vynaložených zdravotní pojišťovnou na léčení zaměstnance pojištěného nebo třetí osoby | J21: povinnost pojištěného k náhradě jiné újmy na jmění vyplývající z pokut, penále a správních sankcí (dále jen „sankce“) uložených nebo uplatňovaných orgány státní správy, které byly uloženy třetí osobě v důsledku jednání pojištěného v důsledku pojištěné činnosti prováděné na základě písemné smlouvy. V rámci celkového ujednaného limitu pojistného plnění uhradí pojistitel pokutu, penále nebo jinou sankci maximálně do výše dle sjednané varianty pro jednu a všechny škody během jednoho pojistného roku. RGL10a. Smluvní pokuty Ujednává se, že pojistitel neuplatní výluku vztahující se na případy zaplacení smluvní pokuty pojištěným, a to do výše částky, která by odpovídala plnění z titulu povinnosti k náhradě újmy, pokud by smluvní pokuta sjednána nebyla. Pojištěný musí v takovém případě vždy prokázat výši újmy. Tyto újmy uhradí pojistitel do výše 1 000 000 Kč. RGL11. Zásah do přirozených práv Odchylně od čl. 10 odst. 1 písm. b) ZPP-OP se pojištění vztahuje i na povinnost pojištěného k peněžité náhradě újmy uložené pravomocným rozhodnutím soudu spočívající v neoprávněném zásahu do přirozených práv člověka nebo do dobré pověsti právnické osoby (např. omezení osobní svobody, zásah do cti nebo důstojnosti, poškození dobrého jména apod.). Ujednání podle tohoto odstavce se sjednává se sublimitem pojistného plnění ve výši 30 % ze základního limitu plnění pro pojištění odpovědnosti za újmu, maximálně však do výše limitu dle sjednané varianty, není-li v pojistné smlouvě sjednán vyšší limit plnění. RGL13. Činnosti nezapsané v obchodním rejstříku Pojištění se sjednává pro případ povinnosti pojištěného nahradit škodu či újmu vzniklou jiné osobě při ublížení na zdraví nebo usmrcení v souvislosti s činnostmi, které jsou uvedeny ve výpisu z obchodního rejstříku či v jiném oprávnění, na které pojistná smlouva odkazuje. Dále se pojištění sjednává i pro případ povinnosti pojištěného nahradit škodu či újmu vzniklou jiné osobě při ublížení na zdraví nebo usmrcení v souvislosti s činnostmi, pro jejichž výkon se živnostenské či jiné
... B23: zabránit přímo hrozící újmě na zdraví nebo majetku jednotlivých odběratelů. Čl. 10 odst. 1 písm. b), čl. 10 odst. 6 b) a čl. 16 písm. a) ZPP-OP se na pojištění podle tohoto odstavce neuplatní. RGL21. Věci převzaté a v užívání 1. Pojištění se odchylně od čl. 9 odst. 8 ZPP-OP vztahuje i na převzatá vozidla či plavidla. Výluka čl. 10 odst. 2 písm. g) se ruší. Pro škody vzniklé na převzatých vozidlech a plavidlech se uplatní podmínky uvedené v čl. 18 ZPP-OP. 2. V případě, že sjednané pojištění zahrnuje i krytí pro škody na věcech převzatých a užívaných, vztahuje se pojištění i na škody vzniklé neúmyslným použitím nesprávného postupu, nevhodného zařízení nebo nástroje. 3. Odchylně od čl. 13 ZPP-OP se ujednává, že pojištění věcí užívaných sjednané touto pojistnou smlouvou se vztahuje i na mobilní motorové pracovní stroje. 4. Odchylně od čl. 13 ZPP-OP se ujednává, že pojištění věcí užívaných sjednané touto pojistnou smlouvou se vztahuje i na ztrátu užívaných věcí movitých. 5. Pojistitel uhradí jednu a všechny škody, na které se vztahuje pojištění podle tohoto odstavce, v rámci jednoho pojistného roku maximálně do výše dle sjednané varianty. RGL24. Odpovědnost za subdodávky Ujednává se, že pojištěný je v rámci dodavatelských vztahů v souvislosti se zhotovením díla považován za solidárně odpovědného za řádné provedení zakázky, a to i pro účely náhrady újem vzniklých v souvislosti s realizací zakázky. Práva pojistitele na případný oprávněný regres vůči ostatním dodavatelům tímto zůstávají nedotčena. Pojištění se nevztahuje ne penále, pokuty a škody související s nedodržením smluvně dohodnutých lhůt. Pojištění se vztahuje i na povinnost pojištěného nahradit škodu či újmu z titulu ručení za svého subdodavatele, pokud pojištěný subdodavatele nepečlivě vybral nebo na něj nedostatečně dohlížel. RGL26. Regresy státní správy po samosprávě Pro případ sjednání pojištění odpovědnosti pro územní samosprávný celek (obce, kraje apod.) se ujednává, že sjednané pojištění se vztahuje i na situace, kdy v důsledku | J23: RGL20. Věci převzaté – motorová vozidla Odchylně od čl. 9 odst. 8 ZPP-OP se pojištění vztahuje i na škody vzniklé provozem převzatého motorového vozidla. V rámci celkového ujednaného limitu pojistného plnění uhradí pojistitel škody způsobené provozem převzatého motorového vozidla maximálně do výše dle sjednané varianty pro jednu a všechny škody během jednoho pojistného roku, není-li v pojistné smlouvě sjednán vyšší limit plnění. RGL30. Onemocnění z potravin (výrobek) Odchylně od pojistných podmínek se pojištění odpovědnosti vztahuje na újmy vzniklé v důsledky salmonelózy a listeriózy. RGL33. Újma způsobená činností pracovního stroje Ujednává se, že pojištění sjednané touto pojistnou smlouvu se vztahuje i na újmy vniklé výkonem činnosti pracovního stroje, které nemají původ v jeho jízdě. RGL34. Újma způsobená provozem pracovního stroje, který nepodléhá povinnému pojištění odpovědnosti Ujednává se, že pojištění sjednané touto pojistnou smlouvu se vztahuje i na újmy způsobené provozem pracovního stoje, netýká-li se způsobená újma pojištění, jehož uzavření je vyžadováno příslušným právním předpisem RGL36. Změna v příjmech pojištěného Ujednává se, že zvýšení příjmů je pojištěný povinen oznámit pojišťovně pouze v případě, že došlo k jejich zvýšení o více než 20 % ve srovnání s údajem uvedeným při sjednávání pojištění. RGL37. Sesedání a sesuv půdy Odchylně od článku 10 odst. 1 písm. o, ZPP-OP se pojištění vztahuje i na náhradu újmy způsobené sesedáním nebo sesouváním půdy, erozí, vibracemi, průmyslovým odstřelem nebo v důsledku poddolování v souvislosti s oprávněně vykonávanou činností. Pojištění se sjednává s limitem plnění dle zvolené varianty. OSTATNÍ UJEDNÁNÍ Současně ujednáváme, že pozbývá platnosti Smluvní ujednání RENOMIA k pojištění majetku, přerušení provozu a odpovědnosti podnikatelů, sjednané dříve.
B24: pravomocně ukončeného soudního řízení ve věci pochybení pojištěného vznikla škoda některému z nadřazených samosprávných celků, popř. ústřednímu orgánu státní správy. Pojištění se v takovém případě vztahuje na regresy nadřazeného samosprávného celku, popř. ústředního orgánu státní správy, uplatněné za pojištěným. Za okamžik vzniku škody se pro účely tohoto smluvního ujednání považuje datum právní moci rozhodnutí příslušného soudního orgánu (vznik povinnosti nadřazeného samosprávného celku, popř. ústředního orgánu státní správy, nahradit vzniklou škodu). Podmínkou toho, aby pojistitel vyplatil pojistné plnění, je však skutečnost, že k příčině škody došlo nejvýše 10 let před počátkem pojištění.
B25: SMLUVNÍ UJEDNÁNÍ RENOMIA 2024-1
B26: Sjednaná připojištění | P26: Limity pojistného pllnění dle varianty
P27: Varianta I. | R27: Varianta II. | T27: Varianta III.
B28: OBECNÁ UJEDNÁNÍ
B29: RGPA21 Náklady na znalecké posudky | P29: 100000 | R29: 175000 | T29: 250000
B30: RGPA22 Náklady na vlastní administrativní činnost | P30: 100000 | R30: 175000 | T30: 250000
B31: POJIŠTĚNÍ MAJETKU
B32: RALP1 Elektrická zařízení pojištěných budov | P32: 100000 | R32: 175000 | T32: 250000
B33: RALP2 Pojištění strojů a zařízení | P33: 100000 | R33: 175000 | T33: 250000
B34: RALP3 Nespecifikované vedlejší stavby | P34: 1000000 | R34: 2000000 | T34: 5000000
B35: RALP4 Stavební součásti budovy | P35: 250000 | R35: 500000 | T35: 1000000
B36: RALP5 Loupež | P36: 250000 | R36: 500000 | T36: 1000000
B37: RALP6 Poškození zásob v chladícím/mrazícím zařízenÍ | P37: 50000 | R37: 100000 | T37: 250000
B38: RGA17 Zachraňovací náklady | P38: 10000000 | R38: 10000000 | T38: 10000000
B39: RGPA9 Místa pojištění na území Evropy | P39: 1000000 | R39: 2000000 | T39: 5000000
B40: RGPA16 Znovupořízení věci dle nových norem, náklady na výměnu nepoškozených věcí z estetických důvodů | P40: 250000 | R40: 500000 | T40: 1000000
B41: RGPA20 Znovupořízení věci v případě ukončení její výroby | P41: 1000000 | R41: 2000000 | T41: 5000000
B42: RGPA24 Vícenáklady na díla historické nebo umělecké hodnoty | P42: 1000000 | R42: 2000000 | T42: 5000000
B43: RGPA26 Náklady na obnovení dokumentace | P43: 25000 | R43: 50000 | T43: 100000
... B62: RGPZI39 Znovunaplnění hasicího přístroj | P62: 10000 | R62: 25000 | T62: 50000
B63: POJIŠTĚNÍ NÁKLADU
B64: RALP7 Pojištění nákladu – krádež (dílčí limity stanoveny smluvním ujednáním) | P64: 100000 | R64: 250000 | T64: 500000
B65: POJIŠTĚNÍ STROJNÍCH A ELEKTRONICKÝCH RIZIK
B66: RGPMI1A Riziko dodavatele | P66: 250000 | R66: 500000 | T66: 1000000
B67: RGPMI4A Vícenáklady (stroje) | P67: 100000 | R67: 200000 | T67: 300000
B68: RGPMI5A Vyměnitelné části stroje | P68: 50000 | R68: 100000 | T68: 250000
B69: RGPMI11 Poškození výpadkem nebo přerušením energií & znehodnocení média | P69: 50000 | R69: 100000 | T69: 250000
B70: POJIŠTĚNÍ PŘERUŠENÍ PROVOZU
B71: RGPBC8 Dodavatel a odběratel | P71: 500000 | R71: 1000000 | T71: 2000000
B72: RGPBC9A Dodavatel média | P72: 500000 | R72: 1000000 | T72: 2000000
B73: POJIŠTĚNÍ ODPOVĚDNOSTI ZA ŠKODU
B74: RALL2 Škody na životním prostředí | P74: 500000 | R74: 1000000 | T74: 2000000
B75: RALL3 Dodavatelé a distributoři elektrické energie | P75: 1000000 | R75: 1000000 | T75: 1000000
B76: RALL4 Škody na věcech odložených a vnesených (dílčí limity stanoveny smluvním ujednáním) | P76: 2000000 | R76: 2000000 | T76: 2000000
B77: RALL5. Újma způsobená zvířaty na porostech | P77: 500000 | R77: 1000000 | T77: 2000000
B78: RGL5 Čisté finanční škody (Doložka DOP 098) | P78: 500000 | R78: 1000000 | T78: 2000000
B79: RGL6 Náklady na montáž a demontáž | P79: 250000 | R79: 250000 | T79: 250000
B80: RGL9. Křížová odpovědnost | P80: 1000000 | R80: 2000000 | T80: 5000000
B81: RGL10 Finanční škody – pokuty, penále | P81: 100000 | R81: 175000 | T81: 250000
B82: RGL11. Zásah do přirozených práv | P82: 1000000 | R82: 3000000 | T82: 5000000
B83: RGL20. Věci převzaté – motorová vozidla | P83: 100000 | R83: 175000 | T83: 250000
B84: RGL21 Věci převzaté a v užívání | P84: 500000 | R84: 1000000 | T84: 3000000
B85: RGL37 Sesedání a sesuv půdy | P85: 1000000 | R85: 5000000 | T85: 10000000
B87: BYTOVÉ DOMY Následující ujednání jsou určena pouze pro bytové domy. RGPZI36. Věci v majetku vlastníků a nájemců jednotek uložených ve společných prostorách Ujednává se, že pojištění se též vztahuje na věci v majetku vlastníků a nájemců jednotek uložených ve společných prostorách. Toto pojištění se vztahuje na věci, které se obvykle do společných prostor ukládají. Předmětem pojištění nejsou cennosti a starožitnosti. Pojištění se jednává pro případ škod způsobených stejnými pojistnými nebezpečími, na které je sjednáno pojištění budovy. Toto pojištění se sjednává s ročním limitem plnění dle sjednané varianty a se spoluúčastí 1 000 Kč. RGPBC17B. Pojištění ušlého nájemného a náhradního ubytování Ujednává se, že ušlým nájemným je nájemné, které by pojištěný získal dle nájemní smlouvy platné ke dni vzniku pojistné události. Při vzniku práva na plnění za ušlé nájemné se uhradí částka odpovídající ušlému nájemnému snížená o náklady za údržbu budovy, které jsou pro účely tohoto pojištění stanoveny ve výši 15 % z příslušného ušlého nájemného. Za ušlé nájemné, které oprávněná osoba v důsledku přerušení provozu nemohla obdržet, se považuje rozdíl mezi částkou nájemného skutečně dosaženou a částkou nájemného, která byla očekávána na základě nájemní smlouvy platné ke dni vzniku pojistné události. Vlastníkovi | J87: či nájemci neobyvatelného bytu mohou být místo ušlého nájemného uhrazeny prokazatelně vynaložené náklady na náhradní ubytování obdobné velikosti a obdobného standardu. V rámci pojistné události je možné kombinovat výplatu pojistného plnění za ušlé nájemné a za náhradní ubytování, přičemž u jednotlivé bytové jednotky si oprávněná osoba zvolí jen jednu z možností. Pojištění se sjednává s limitem plnění dle zvolené varianty. RGL31. Odpovědnost členů výboru SVJ/družstva Pojištění se vztahuje na odpovědnost při výkonu funkce statutárního orgánu společenství vlastníků nebo bytového družstva. Pojistitel uhradí vzniklou újmu za pojištěného, za předpokladu, že mu vznikla povinnost k její náhradě v souvislosti s výkonem funkce statutárního orgánu. Újmou je v tomto případě myšleno majetková a nemajetková újma. Pojištění se také vztahuje na zákonem stanovenou povinnost nahradit újmu způsobenou pojištěným členem statutárního orgánu jinému pojištěnému členu statutárního orgánu, vznikla-li v souvislosti s výkonem funkce. Pojištění se sjednává s limitem plnění dle zvolené varianty. Pojistitel není povinen uhradit za pojištěného újmu v případě, že jednal s úmyslem získat osobní prospěch, výhodu nebo přijal odměnu, na kterou neměl právní nárok. Pojistitel dále neposkytne pojistné plnění, pokud by újma byla způsobená úmyslně.
B89: SMLUVNÍ UJEDNÁNÍ RENOMIA PRO BYTOVÉ DOMY | P89: Varianta I. | R89: Varianta II. | T89: Varianta III.
B90: RGL31. Odpovědnost členů výboru SVJ/družstva | P90: 1000000 | R90: 2000000 | T90: 5000000
B91: RGPBC17B. Pojištění ušlého nájemného a náhradního ubytování | P91: 1000000 | R91: 2000000 | T91: 5000000
B92: RGPZI36. Věci v majetku vlastníků a nájemců jednotek uložených ve společných prostorách | P92: 100000 | R92: 175000 | T92: 250000

Sheet Sazby
A1: SÚ | B1: 1000 | C1: 5000 | D1: 10000 | E1: 20000 | K1: Frekvence placení: | M1: =150*0.25 -> 37.5
A2: Sazba - město do 100 000 obyvatel | B2: 0.145665 | C2: 0.1340118 | D2: 0.1281852 | E2: 0.1223586 | G2: Limity: 30 mil. | K2: Roční
B3: =B2*$H$3 -> 0.1602315 | C3: =C2*$H$3 -> 0.14741298 | D3: =D2*$H$3 -> 0.14100372 | E3: =E2*$H$3 -> 0.13459446 | G3: Limity: 50 mil. | H3: 1.1 | K3: Pololetní
B4: =B2*$H$4 -> 0.174798 | C4: =C2*$H$4 -> 0.16081416 | D4: =D2*$H$4 -> 0.15382224 | E4: =E2*$H$4 -> 0.14683032 | G4: Limity: 75 mil. | H4: 1.2 | K4: Čtvrtletní
A6: SÚ | B6: 1000 | C6: 5000 | D6: 10000 | E6: 20000
A7: Sazba - město nad 100 000 obyvatel | B7: =B2*(1+$A$9) -> 0.16561911 | C7: =C2*(1+$A$9) -> 0.15236958 | D7: =D2*(1+$A$9) -> 0.14574482 | E7: =E2*(1+$A$9) -> 0.13912005 | G7: Limity: 30 mil. | K7: Elektronická komunikace
A8: Navýšení o 13,7 % | B8: =B3*(1+$A$9) -> 0.18218102 | C8: =C3*(1+$A$9) -> 0.16760654 | D8: =D3*(1+$A$9) -> 0.1603193 | E8: =E3*(1+$A$9) -> 0.15303206 | G8: Limity: 50 mil. | K8: ANO
A9: 0.1369863 | B9: =B4*(1+$A$9) -> 0.19874293 | C9: =C4*(1+$A$9) -> 0.1828435 | D9: =D4*(1+$A$9) -> 0.17489378 | E9: =E4*(1+$A$9) -> 0.16694406 | G9: Limity: 75 mil. | K9: NE
A11: PČ - město do 100 000 obyvatel | B11: =Kalkulace!F52 -> 0 | K11: Inkaso
A12: PČ - město nad 100 000 obyvatel | B12: =Kalkulace!F42 -> 0 | K12: ANO
K13: NE
A14: 1000 | B14: 5000 | C14: 10000 | D14: 20000
A15: 0 | B15: 0.08 | C15: 0.12 | D15: 0.16
B18: voda z vodovodního zařízení, vichřice - krupobití, ostatní nebezpečí, povodeň | G18: Zvolený limit:
A19: Roční limit plnění/Spoluúčast | B19: 1000 | C19: 5000 | D19: 10000 | E19: 20000 | G19: {=IFERROR(_xlfn.IFS(AND(Kalkulace!D61=FALSE,Kalkulace!E61=FALSE,Kalkulace!F61=FALSE,Kalkulace!G61=FALSE,Kalkulace!D62=FALSE,Kalkulace!E62=FALSE,Kalkulace!F62=FALSE,Kalkulace!G62=FALSE,Kalkulace!D63=FALSE,Kalkulace!E63=FALSE,Kalkulace!F63=FALSE,Kalkulace!G63=FALSE),"",AND(Kalkulace!D61=TRUE,Kalkulace!E61=FALSE,Kalkulace!F61=FALSE,Kalkulace!G61=FALSE,Kalkulace!D62=FALSE,Kalkulace!E62=FALSE,Kalkulace!F62=FALSE,Kalkulace!G62=FALSE,Kalkulace!D63=FALSE,Kalkulace!E63=FALSE,Kalkulace!F63=FALSE,Kalkulace!G63=FALSE),30000000,AND(Kalkulace!D61=FALSE,Kalkulace!E61=TRUE,Kalkulace!F61=FALSE,Kalkulace!G61=FALSE,Kalkulace!D62=FALSE,Kalkulace!E62=FALSE,Kalkulace!F62=FALSE,Kalkulace!G62=FALSE,Kalkulace!D63=FALSE,Kalkulace!E63=FALSE,Kalkulace!F63=FALSE,Kalkulace!G63=FALSE),30000000,AND(Kalkulace!D61=FALSE,Kalkulace!E61=FALSE,Kalkulace!F61=TRUE,Kalkulace!G61=FALSE,Kalkulace!D62=FALSE,Kalkulace!E62=FALSE,Kalkulace!F62=FALSE,Kalkulace!G62=FALSE,Kalkulace!D63=FALSE,Kalkulace!E63=FALSE,Kalkulace!F63=FALSE,Kalkulace!G63=FALSE),30000000,AND(Kalkulace!D61=FALSE,Kalkulace!E61=FALSE,Kalkulace!F61=FALSE,Kalkulace!G61=TRUE,Kalkulace!D62=FALSE,Kalkulace!E62=FALSE,Kalkulace!F62=FALSE,Kalkulace!G62=FALSE,Kalkulace!D63=FALSE,Kalkulace!E63=FALSE,Kalkulace!F63=FALSE,Kalkulace!G63=FALSE),30000000,AND(Kalkulace!D61=FALSE,Kalkulace!E61=FALSE,Kalkulace!F61=FALSE,Kalkulace!G61=FALSE,Kalkulace!D62=TRUE,Kalkulace!E62=FALSE,Kalkulace!F62=FALSE,Kalkulace!G62=FALSE,Kalkulace!D63=FALSE,Kalkulace!E63=FALSE,Kalkulace!F63=FALSE,Kalkulace!G63=FALSE),50000000,AND(Kalkulace!D61=FALSE,Kalkulace!E61=FALSE,Kalkulace!F61=FALSE,Kalkulace!G61=FALSE,Kalkulace!D62=FALSE,Kalkulace!E62=TRUE,Kalkulace!F62=FALSE,Kalkulace!G62=FALSE,Kalkulace!D63=FALSE,Kalkulace!E63=FALSE,Kalkulace!F63=FALSE,Kalkulace!G63=FALSE),50000000,AND(Kalkulace!D61=FALSE,Kalkulace!E61=FALSE,Kalkulace!F61=FALSE,Kalkulace!G61=FALSE,Kalkulace!D62=FALSE,Kalkulace!E62=FALSE,Kalkulace!F62=TRUE,Kalkulace!G62=FALSE,Kalkulace!D63=FALSE,Kalkulace!E63=FALSE,Kalkulace!F63=FALSE,Kalkulace!G63=FALSE),50000000,AND(Kalkulace!D61=FALSE,Kalkulace!E61=FALSE,Kalkulace!F61=FALSE,Kalkulace!G61=FALSE,Kalkulace!D62=FALSE,Kalkulace!E62=FALSE,Kalkulace!F62=FALSE,Kalkulace!G62=TRUE,Kalkulace!D63=FALSE,Kalkulace!E63=FALSE,Kalkulace!F63=FALSE,Kalkulace!G63=FALSE),50000000,AND(Kalkulace!D61=FALSE,Kalkulace!E61=FALSE,Kalkulace!F61=FALSE,Kalkulace!G61=FALSE,Kalkulace!D62=FALSE,Kalkulace!E62=FALSE,Kalkulace!F62=FALSE,Kalkulace!G62=FALSE,Kalkulace!D63=TRUE,Kalkulace!E63=FALSE,Kalkulace!F63=FALSE,Kalkulace!G63=FALSE),75000000,AND(Kalkulace!D61=FALSE,Kalkulace!E61=FALSE,Kalkulace!F61=FALSE,Kalkulace!G61=FALSE,Kalkulace!D62=FALSE,Kalkulace!E62=FALSE,Kalkulace!F62=FALSE,Kalkulace!G62=FALSE,Kalkulace!D63=FALSE,Kalkulace!E63=TRUE,Kalkulace!F63=FALSE,Kalkulace!G63=FALSE),75000000,AND(Kalkulace!D61=FALSE,Kalkulace!E61=FALSE,Kalkulace!F61=FALSE,Kalkulace!G61=FALSE,Kalkulace!D62=FALSE,Kalkulace!E62=FALSE,Kalkulace!F62=FALSE,Kalkulace!G62=FALSE,Kalkulace!D63=FALSE,Kalkulace!E63=FALSE,Kalkulace!F63=TRUE,Kalkulace!G63=FALSE),75000000,AND(Kalkulace!D61=FALSE,Kalkulace!E61=FALSE,Kalkulace!F61=FALSE,Kalkulace!G61=FALSE,Kalkulace!D62=FALSE,Kalkulace!E62=FALSE,Kalkulace!F62=FALSE,Kalkulace!G62=FALSE,Kalkulace!D63=FALSE,Kalkulace!E63=FALSE,Kalkulace!F63=FALSE,Kalkulace!G63=TRUE),75000000),"Vybráno více možností")} -> 30000000 | I19: Pojistné:
A20: 30000000 | B20: =($B$11*B2/1000)+($B$12*B7/1000) -> 0 | C20: =($B$11*C2/1000)+($B$12*C7/1000) -> 0 | D20: =($B$11*D2/1000)+($B$12*D7/1000) -> 0 | E20: =($B$11*E2/1000)+($B$12*E7/1000) -> 0 | I20: {=IF((B11+B12)>300000000,"",IFERROR(_xlfn.IFS(AND(MATCH(G19,A20:A22)=1,MATCH(G22,B19:E19)=1),B20,AND(MATCH(G19,A20:A22)=2,MATCH(G22,B19:E19)=1),B21,AND(MATCH(G19,A20:A22)=3,MATCH(G22,B19:E19)=1),B22,AND(MATCH(G19,A20:A22)=1,MATCH(G22,B19:E19)=2),C20,AND(MATCH(G19,A20:A22)=2,MATCH(G22,B19:E19)=2),C21,AND(MATCH(G19,A20:A22)=3,MATCH(G22,B19:E19)=2),C22,AND(MATCH(G19,A20:A22)=1,MATCH(G22,B19:E19)=3),D20,AND(MATCH(G19,A20:A22)=2,MATCH(G22,B19:E19)=3),D21,AND(MATCH(G19,A20:A22)=3,MATCH(G22,B19:E19)=3),D22,AND(MATCH(G19,A20:A22)=1,MATCH(G22,B19:E19)=4),E20,AND(MATCH(G19,A20:A22)=2,MATCH(G22,B19:E19)=4),E21,AND(MATCH(G19,A20:A22)=3,MATCH(G22,B19:E19)=4),E22),0))} -> 0
A21: 50000000 | B21: =($B$11*B3/1000)+($B$12*B8/1000) -> 0 | C21: =($B$11*C3/1000)+($B$12*C8/1000) -> 0 | D21: =($B$11*D3/1000)+($B$12*D8/1000) -> 0 | E21: =($B$11*E3/1000)+($B$12*E8/1000) -> 0 | G21: Zvolená spoluúčast:
A22: 75000000 | B22: =($B$11*B4/1000)+($B$12*B9/1000) -> 0 | C22: =($B$11*C4/1000)+($B$12*C9/1000) -> 0 | D22: =($B$11*D4/1000)+($B$12*D9/1000) -> 0 | E22: =($B$11*E4/1000)+($B$12*E9/1000) -> 0 | G22: {=IFERROR(_xlfn.IFS(AND(Kalkulace!D61=FALSE,Kalkulace!E61=FALSE,Kalkulace!F61=FALSE,Kalkulace!G61=FALSE,Kalkulace!D62=FALSE,Kalkulace!E62=FALSE,Kalkulace!F62=FALSE,Kalkulace!G62=FALSE,Kalkulace!D63=FALSE,Kalkulace!E63=FALSE,Kalkulace!F63=FALSE,Kalkulace!G63=FALSE),"",AND(Kalkulace!D61=TRUE,Kalkulace!E61=FALSE,Kalkulace!F61=FALSE,Kalkulace!G61=FALSE,Kalkulace!D62=FALSE,Kalkulace!E62=FALSE,Kalkulace!F62=FALSE,Kalkulace!G62=FALSE,Kalkulace!D63=FALSE,Kalkulace!E63=FALSE,Kalkulace!F63=FALSE,Kalkulace!G63=FALSE),1000,AND(Kalkulace!D61=FALSE,Kalkulace!E61=TRUE,Kalkulace!F61=FALSE,Kalkulace!G61=FALSE,Kalkulace!D62=FALSE,Kalkulace!E62=FALSE,Kalkulace!F62=FALSE,Kalkulace!G62=FALSE,Kalkulace!D63=FALSE,Kalkulace!E63=FALSE,Kalkulace!F63=FALSE,Kalkulace!G63=FALSE),5000,AND(Kalkulace!D61=FALSE,Kalkulace!E61=FALSE,Kalkulace!F61=TRUE,Kalkulace!G61=FALSE,Kalkulace!D62=FALSE,Kalkulace!E62=FALSE,Kalkulace!F62=FALSE,Kalkulace!G62=FALSE,Kalkulace!D63=FALSE,Kalkulace!E63=FALSE,Kalkulace!F63=FALSE,Kalkulace!G63=FALSE),10000,AND(Kalkulace!D61=FALSE,Kalkulace!E61=FALSE,Kalkulace!F61=FALSE,Kalkulace!G61=TRUE,Kalkulace!D62=FALSE,Kalkulace!E62=FALSE,Kalkulace!F62=FALSE,Kalkulace!G62=FALSE,Kalkulace!D63=FALSE,Kalkulace!E63=FALSE,Kalkulace!F63=FALSE,Kalkulace!G63=FALSE),20000,AND(Kalkulace!D61=FALSE,Kalkulace!E61=FALSE,Kalkulace!F61=FALSE,Kalkulace!G61=FALSE,Kalkulace!D62=TRUE,Kalkulace!E62=FALSE,Kalkulace!F62=FALSE,Kalkulace!G62=FALSE,Kalkulace!D63=FALSE,Kalkulace!E63=FALSE,Kalkulace!F63=FALSE,Kalkulace!G63=FALSE),1000,AND(Kalkulace!D61=FALSE,Kalkulace!E61=FALSE,Kalkulace!F61=FALSE,Kalkulace!G61=FALSE,Kalkulace!D62=FALSE,Kalkulace!E62=TRUE,Kalkulace!F62=FALSE,Kalkulace!G62=FALSE,Kalkulace!D63=FALSE,Kalkulace!E63=FALSE,Kalkulace!F63=FALSE,Kalkulace!G63=FALSE),5000,AND(Kalkulace!D61=FALSE,Kalkulace!E61=FALSE,Kalkulace!F61=FALSE,Kalkulace!G61=FALSE,Kalkulace!D62=FALSE,Kalkulace!E62=FALSE,Kalkulace!F62=TRUE,Kalkulace!G62=FALSE,Kalkulace!D63=FALSE,Kalkulace!E63=FALSE,Kalkulace!F63=FALSE,Kalkulace!G63=FALSE),10000,AND(Kalkulace!D61=FALSE,Kalkulace!E61=FALSE,Kalkulace!F61=FALSE,Kalkulace!G61=FALSE,Kalkulace!D62=FALSE,Kalkulace!E62=FALSE,Kalkulace!F62=FALSE,Kalkulace!G62=TRUE,Kalkulace!D63=FALSE,Kalkulace!E63=FALSE,Kalkulace!F63=FALSE,Kalkulace!G63=FALSE),20000,AND(Kalkulace!D61=FALSE,Kalkulace!E61=FALSE,Kalkulace!F61=FALSE,Kalkulace!G61=FALSE,Kalkulace!D62=FALSE,Kalkulace!E62=FALSE,Kalkulace!F62=FALSE,Kalkulace!G62=FALSE,Kalkulace!D63=TRUE,Kalkulace!E63=FALSE,Kalkulace!F63=FALSE,Kalkulace!G63=FALSE),1000,AND(Kalkulace!D61=FALSE,Kalkulace!E61=FALSE,Kalkulace!F61=FALSE,Kalkulace!G61=FALSE,Kalkulace!D62=FALSE,Kalkulace!E62=FALSE,Kalkulace!F62=FALSE,Kalkulace!G62=FALSE,Kalkulace!D63=FALSE,Kalkulace!E63=TRUE,Kalkulace!F63=FALSE,Kalkulace!G63=FALSE),5000,AND(Kalkulace!D61=FALSE,Kalkulace!E61=FALSE,Kalkulace!F61=FALSE,Kalkulace!G61=FALSE,Kalkulace!D62=FALSE,Kalkulace!E62=FALSE,Kalkulace!F62=FALSE,Kalkulace!G62=FALSE,Kalkulace!D63=FALSE,Kalkulace!E63=FALSE,Kalkulace!F63=TRUE,Kalkulace!G63=FALSE),10000,AND(Kalkulace!D61=FALSE,Kalkulace!E61=FALSE,Kalkulace!F61=FALSE,Kalkulace!G61=FALSE,Kalkulace!D62=FALSE,Kalkulace!E62=FALSE,Kalkulace!F62=FALSE,Kalkulace!G62=FALSE,Kalkulace!D63=FALSE,Kalkulace!E63=FALSE,Kalkulace!F63=FALSE,Kalkulace!G63=TRUE),20000),"Vybráno více možností")} -> 5000
A24: Pojištění odpovědnosti
A25: Limit pojistného plnění (základní pojištění) | B25: Spoluúčast
B26: 1000 | C26: 5000 | D26: 10000 | E26: 20000 | G26: Zvolený limit:
A27: 5000000 | B27: 1260 | C27: 1050 | D27: 1008 | E27: 966 | G27: {=IFERROR(_xlfn.IFS(AND(Kalkulace!D72=FALSE,Kalkulace!E72=FALSE,Kalkulace!F72=FALSE,Kalkulace!G72=FALSE,Kalkulace!D73=FALSE,Kalkulace!E73=FALSE,Kalkulace!F73=FALSE,Kalkulace!G73=FALSE,Kalkulace!D74=FALSE,Kalkulace!E74=FALSE,Kalkulace!F74=FALSE,Kalkulace!G74=FALSE,Kalkulace!D75=FALSE,Kalkulace!E75=FALSE,Kalkulace!F75=FALSE,Kalkulace!G75=FALSE),"",AND(Kalkulace!D72=TRUE,Kalkulace!E72=FALSE,Kalkulace!F72=FALSE,Kalkulace!G72=FALSE,Kalkulace!D73=FALSE,Kalkulace!E73=FALSE,Kalkulace!F73=FALSE,Kalkulace!G73=FALSE,Kalkulace!D74=FALSE,Kalkulace!E74=FALSE,Kalkulace!F74=FALSE,Kalkulace!G74=FALSE,Kalkulace!D75=FALSE,Kalkulace!E75=FALSE,Kalkulace!F75=FALSE,Kalkulace!G75=FALSE),5000000,AND(Kalkulace!D72=FALSE,Kalkulace!E72=TRUE,Kalkulace!F72=FALSE,Kalkulace!G72=FALSE,Kalkulace!D73=FALSE,Kalkulace!E73=FALSE,Kalkulace!F73=FALSE,Kalkulace!G73=FALSE,Kalkulace!D74=FALSE,Kalkulace!E74=FALSE,Kalkulace!F74=FALSE,Kalkulace!G74=FALSE,Kalkulace!D75=FALSE,Kalkulace!E75=FALSE,Kalkulace!F75=FALSE,Kalkulace!G75=FALSE),5000000,AND(Kalkulace!D72=FALSE,Kalkulace!E72=FALSE,Kalkulace!F72=TRUE,Kalkulace!G72=FALSE,Kalkulace!D73=FALSE,Kalkulace!E73=FALSE,Kalkulace!F73=FALSE,Kalkulace!G73=FALSE,Kalkulace!D74=FALSE,Kalkulace!E74=FALSE,Kalkulace!F74=FALSE,Kalkulace!G74=FALSE,Kalkulace!D75=FALSE,Kalkulace!E75=FALSE,Kalkulace!F75=FALSE,Kalkulace!G75=FALSE),5000000,AND(Kalkulace!D72=FALSE,Kalkulace!E72=FALSE,Kalkulace!F72=FALSE,Kalkulace!G72=TRUE,Kalkulace!D73=FALSE,Kalkulace!E73=FALSE,Kalkulace!F73=FALSE,Kalkulace!G73=FALSE,Kalkulace!D74=FALSE,Kalkulace!E74=FALSE,Kalkulace!F74=FALSE,Kalkulace!G74=FALSE,Kalkulace!D75=FALSE,Kalkulace!E75=FALSE,Kalkulace!F75=FALSE,Kalkulace!G75=FALSE),5000000,AND(Kalkulace!D72=FALSE,Kalkulace!E72=FALSE,Kalkulace!F72=FALSE,Kalkulace!G72=FALSE,Kalkulace!D73=TRUE,Kalkulace!E73=FALSE,Kalkulace!F73=FALSE,Kalkulace!G73=FALSE,Kalkulace!D74=FALSE,Kalkulace!E74=FALSE,Kalkulace!F74=FALSE,Kalkulace!G74=FALSE,Kalkulace!D75=FALSE,Kalkulace!E75=FALSE,Kalkulace!F75=FALSE,Kalkulace!G75=FALSE),10000000,AND(Kalkulace!D72=FALSE,Kalkulace!E72=FALSE,Kalkulace!F72=FALSE,Kalkulace!G72=FALSE,Kalkulace!D73=FALSE,Kalkulace!E73=TRUE,Kalkulace!F73=FALSE,Kalkulace!G73=FALSE,Kalkulace!D74=FALSE,Kalkulace!E74=FALSE,Kalkulace!F74=FALSE,Kalkulace!G74=FALSE,Kalkulace!D75=FALSE,Kalkulace!E75=FALSE,Kalkulace!F75=FALSE,Kalkulace!G75=FALSE),10000000,AND(Kalkulace!D72=FALSE,Kalkulace!E72=FALSE,Kalkulace!F72=FALSE,Kalkulace!G72=FALSE,Kalkulace!D73=FALSE,Kalkulace!E73=FALSE,Kalkulace!F73=TRUE,Kalkulace!G73=FALSE,Kalkulace!D74=FALSE,Kalkulace!E74=FALSE,Kalkulace!F74=FALSE,Kalkulace!G74=FALSE,Kalkulace!D75=FALSE,Kalkulace!E75=FALSE,Kalkulace!F75=FALSE,Kalkulace!G75=FALSE),10000000,AND(Kalkulace!D72=FALSE,Kalkulace!E72=FALSE,Kalkulace!F72=FALSE,Kalkulace!G72=FALSE,Kalkulace!D73=FALSE,Kalkulace!E73=FALSE,Kalkulace!F73=FALSE,Kalkulace!G73=TRUE,Kalkulace!D74=FALSE,Kalkulace!E74=FALSE,Kalkulace!F74=FALSE,Kalkulace!G74=FALSE,Kalkulace!D75=FALSE,Kalkulace!E75=FALSE,Kalkulace!F75=FALSE,Kalkulace!G75=FALSE),10000000,AND(Kalkulace!D72=FALSE,Kalkulace!E72=FALSE,Kalkulace!F72=FALSE,Kalkulace!G72=FALSE,Kalkulace!D73=FALSE,Kalkulace!E73=FALSE,Kalkulace!F73=FALSE,Kalkulace!G73=FALSE,Kalkulace!D74=TRUE,Kalkulace!E74=FALSE,Kalkulace!F74=FALSE,Kalkulace!G74=FALSE,Kalkulace!D75=FALSE,Kalkulace!E75=FALSE,Kalkulace!F75=FALSE,Kalkulace!G75=FALSE),20000000,AND(Kalkulace!D72=FALSE,Kalkulace!E72=FALSE,Kalkulace!F72=FALSE,Kalkulace!G72=FALSE,Kalkulace!D73=FALSE,Kalkulace!E73=FALSE,Kalkulace!F73=FALSE,Kalkulace!G73=FALSE,Kalkulace!D74=FALSE,Kalkulace!E74=TRUE,Kalkulace!F74=FALSE,Kalkulace!G74=FALSE,Kalkulace!D75=FALSE,Kalkulace!E75=FALSE,Kalkulace!F75=FALSE,Kalkulace!G75=FALSE),20000000,AND(Kalkulace!D72=FALSE,Kalkulace!E72=FALSE,Kalkulace!F72=FALSE,Kalkulace!G72=FALSE,Kalkulace!D73=FALSE,Kalkulace!E73=FALSE,Kalkulace!F73=FALSE,Kalkulace!G73=FALSE,Kalkulace!D74=FALSE,Kalkulace!E74=FALSE,Kalkulace!F74=TRUE,Kalkulace!G74=FALSE,Kalkulace!D75=FALSE,Kalkulace!E75=FALSE,Kalkulace!F75=FALSE,Kalkulace!G75=FALSE),20000000,AND(Kalkulace!D72=FALSE,Kalkulace!E72=FALSE,Kalkulace!F72=FALSE,Kalkulace!G72=FALSE,Kalkulace!D73=FALSE,Kalkulace!E73=FALSE,Kalkulace!F73=FALSE,Kalkulace!G73=FALSE,Kalkulace!D74=FALSE,Kalkulace!E74=FALSE,Kalkulace!F74=FALSE,Kalkulace!G74=TRUE,Kalkulace!D75=FALSE,Kalkulace!E75=FALSE,Kalkulace!F75=FALSE,Kalkulace!G75=FALSE),20000000,AND(Kalkulace!D72=FALSE,Kalkulace!E72=FALSE,Kalkulace!F72=FALSE,Kalkulace!G72=FALSE,Kalkulace!D73=FALSE,Kalkulace!E73=FALSE,Kalkulace!F73=FALSE,Kalkulace!G73=FALSE,Kalkulace!D74=FALSE,Kalkulace!E74=FALSE,Kalkulace!F74=FALSE,Kalkulace!G74=FALSE,Kalkulace!D75=TRUE,Kalkulace!E75=FALSE,Kalkulace!F75=FALSE,Kalkulace!G75=FALSE),50000000,AND(Kalkulace!D72=FALSE,Kalkulace!E72=FALSE,Kalkulace!F72=FALSE,Kalkulace!G72=FALSE,Kalkulace!D73=FALSE,Kalkulace!E73=FALSE,Kalkulace!F73=FALSE,Kalkulace!G73=FALSE,Kalkulace!D74=FALSE,Kalkulace!E74=FALSE,Kalkulace!F74=FALSE,Kalkulace!G74=FALSE,Kalkulace!D75=FALSE,Kalkulace!E75=TRUE,Kalkulace!F75=FALSE,Kalkulace!G75=FALSE),50000000,AND(Kalkulace!D72=FALSE,Kalkulace!E72=FALSE,Kalkulace!F72=FALSE,Kalkulace!G72=FALSE,Kalkulace!D73=FALSE,Kalkulace!E73=FALSE,Kalkulace!F73=FALSE,Kalkulace!G73=FALSE,Kalkulace!D74=FALSE,Kalkulace!E74=FALSE,Kalkulace!F74=FALSE,Kalkulace!G74=FALSE,Kalkulace!D75=FALSE,Kalkulace!E75=FALSE,Kalkulace!F75=TRUE,Kalkulace!G75=FALSE),50000000,AND(Kalkulace!D72=FALSE,Kalkulace!E72=FALSE,Kalkulace!F72=FALSE,Kalkulace!G72=FALSE,Kalkulace!D73=FALSE,Kalkulace!E73=FALSE,Kalkulace!F73=FALSE,Kalkulace!G73=FALSE,Kalkulace!D74=FALSE,Kalkulace!E74=FALSE,Kalkulace!F74=FALSE,Kalkulace!G74=FALSE,Kalkulace!D75=FALSE,Kalkulace!E75=FALSE,Kalkulace!F75=FALSE,Kalkulace!G75=TRUE),50000000),"Vybráno více možností")} -> 20000000 | H27: {=_xlfn.IFS(AND(Sazby!I28>0,(Sazby!B11+Sazby!B12)=0),"Nejdříve vyplňte PČ",Sazby!I28=0,"",AND(Sazby!I28>0,(Sazby!B11+Sazby!B12)>0),Sazby!G27)} -> Nejdříve vyplňte PČ | I27: Pojistné:
A28: 10000000 | B28: 1350 | C28: 1125 | D28: 1080 | E28: 1035 | I28: {=IF((B11+B12)>300000000,"",IFERROR(_xlfn.IFS(AND(MATCH(G27,A27:A30)=1,MATCH(G30,B26:E26)=1),B27,AND(MATCH(G27,A27:A30)=2,MATCH(G30,B26:E26)=1),B28,AND(MATCH(G27,A27:A30)=3,MATCH(G30,B26:E26)=1),B29,AND(MATCH(G27,A27:A30)=1,MATCH(G30,B26:E26)=2),C27,AND(MATCH(G27,A27:A30)=2,MATCH(G30,B26:E26)=2),C28,AND(MATCH(G27,A27:A30)=3,MATCH(G30,B26:E26)=2),C29,AND(MATCH(G27,A27:A30)=1,MATCH(G30,B26:E26)=3),D27,AND(MATCH(G27,A27:A30)=2,MATCH(G30,B26:E26)=3),D28,AND(MATCH(G27,A27:A30)=3,MATCH(G30,B26:E26)=3),D29,AND(MATCH(G27,A27:A30)=1,MATCH(G30,B26:E26)=4),E27,AND(MATCH(G27,A27:A30)=2,MATCH(G30,B26:E26)=4),E28,AND(MATCH(G27,A27:A30)=3,MATCH(G30,B26:E26)=4),E29,AND(MATCH(G27,A27:A30)=4,MATCH(G30,B26:E26)=1),B30,AND(MATCH(G27,A27:A30)=4,MATCH(G30,B26:E26)=2),C30,AND(MATCH(G27,A27:A30)=4,MATCH(G30,B26:E26)=3),D30,AND(MATCH(G27,A27:A30)=4,MATCH(G30,B26:E26)=4),E30),0))} -> 1246 | J28: {=_xlfn.IFS(AND(Sazby!I28>0,(Sazby!B11+Sazby!B12)=0),"",Sazby!I28=0,"",AND(Sazby!I28>0,(Sazby!B11+Sazby!B12)>0),IF(Sazby!G27="","",Sazby!I28))}
A29: 20000000 | B29: 1495.2 | C29: 1246 | D29: 1196.16 | E29: 1146.32 | G29: Zvolená spoluúčast:
A30: 50000000 | B30: 2901.6 | C30: 2418 | D30: 2321.28 | E30: 2224.56 | G30: {=IFERROR(_xlfn.IFS(AND(Kalkulace!D72=FALSE,Kalkulace!E72=FALSE,Kalkulace!F72=FALSE,Kalkulace!G72=FALSE,Kalkulace!D73=FALSE,Kalkulace!E73=FALSE,Kalkulace!F73=FALSE,Kalkulace!G73=FALSE,Kalkulace!D74=FALSE,Kalkulace!E74=FALSE,Kalkulace!F74=FALSE,Kalkulace!G74=FALSE,Kalkulace!D75=FALSE,Kalkulace!E75=FALSE,Kalkulace!F75=FALSE,Kalkulace!G75=FALSE),"",AND(Kalkulace!D72=TRUE,Kalkulace!E72=FALSE,Kalkulace!F72=FALSE,Kalkulace!G72=FALSE,Kalkulace!D73=FALSE,Kalkulace!E73=FALSE,Kalkulace!F73=FALSE,Kalkulace!G73=FALSE,Kalkulace!D74=FALSE,Kalkulace!E74=FALSE,Kalkulace!F74=FALSE,Kalkulace!G74=FALSE,Kalkulace!D75=FALSE,Kalkulace!E75=FALSE,Kalkulace!F75=FALSE,Kalkulace!G75=FALSE),1000,AND(Kalkulace!D72=FALSE,Kalkulace!E72=TRUE,Kalkulace!F72=FALSE,Kalkulace!G72=FALSE,Kalkulace!D73=FALSE,Kalkulace!E73=FALSE,Kalkulace!F73=FALSE,Kalkulace!G73=FALSE,Kalkulace!D74=FALSE,Kalkulace!E74=FALSE,Kalkulace!F74=FALSE,Kalkulace!G74=FALSE,Kalkulace!D75=FALSE,Kalkulace!E75=FALSE,Kalkulace!F75=FALSE,Kalkulace!G75=FALSE),5000,AND(Kalkulace!D72=FALSE,Kalkulace!E72=FALSE,Kalkulace!F72=TRUE,Kalkulace!G72=FALSE,Kalkulace!D73=FALSE,Kalkulace!E73=FALSE,Kalkulace!F73=FALSE,Kalkulace!G73=FALSE,Kalkulace!D74=FALSE,Kalkulace!E74=FALSE,Kalkulace!F74=FALSE,Kalkulace!G74=FALSE,Kalkulace!D75=FALSE,Kalkulace!E75=FALSE,Kalkulace!F75=FALSE,Kalkulace!G75=FALSE),10000,AND(Kalkulace!D72=FALSE,Kalkulace!E72=FALSE,Kalkulace!F72=FALSE,Kalkulace!G72=TRUE,Kalkulace!D73=FALSE,Kalkulace!E73=FALSE,Kalkulace!F73=FALSE,Kalkulace!G73=FALSE,Kalkulace!D74=FALSE,Kalkulace!E74=FALSE,Kalkulace!F74=FALSE,Kalkulace!G74=FALSE,Kalkulace!D75=FALSE,Kalkulace!E75=FALSE,Kalkulace!F75=FALSE,Kalkulace!G75=FALSE),20000,AND(Kalkulace!D72=FALSE,Kalkulace!E72=FALSE,Kalkulace!F72=FALSE,Kalkulace!G72=FALSE,Kalkulace!D73=TRUE,Kalkulace!E73=FALSE,Kalkulace!F73=FALSE,Kalkulace!G73=FALSE,Kalkulace!D74=FALSE,Kalkulace!E74=FALSE,Kalkulace!F74=FALSE,Kalkulace!G74=FALSE,Kalkulace!D75=FALSE,Kalkulace!E75=FALSE,Kalkulace!F75=FALSE,Kalkulace!G75=FALSE),1000,AND(Kalkulace!D72=FALSE,Kalkulace!E72=FALSE,Kalkulace!F72=FALSE,Kalkulace!G72=FALSE,Kalkulace!D73=FALSE,Kalkulace!E73=TRUE,Kalkulace!F73=FALSE,Kalkulace!G73=FALSE,Kalkulace!D74=FALSE,Kalkulace!E74=FALSE,Kalkulace!F74=FALSE,Kalkulace!G74=FALSE,Kalkulace!D75=FALSE,Kalkulace!E75=FALSE,Kalkulace!F75=FALSE,Kalkulace!G75=FALSE),5000,AND(Kalkulace!D72=FALSE,Kalkulace!E72=FALSE,Kalkulace!F72=FALSE,Kalkulace!G72=FALSE,Kalkulace!D73=FALSE,Kalkulace!E73=FALSE,Kalkulace!F73=TRUE,Kalkulace!G73=FALSE,Kalkulace!D74=FALSE,Kalkulace!E74=FALSE,Kalkulace!F74=FALSE,Kalkulace!G74=FALSE,Kalkulace!D75=FALSE,Kalkulace!E75=FALSE,Kalkulace!F75=FALSE,Kalkulace!G75=FALSE),10000,AND(Kalkulace!D72=FALSE,Kalkulace!E72=FALSE,Kalkulace!F72=FALSE,Kalkulace!G72=FALSE,Kalkulace!D73=FALSE,Kalkulace!E73=FALSE,Kalkulace!F73=FALSE,Kalkulace!G73=TRUE,Kalkulace!D74=FALSE,Kalkulace!E74=FALSE,Kalkulace!F74=FALSE,Kalkulace!G74=FALSE,Kalkulace!D75=FALSE,Kalkulace!E75=FALSE,Kalkulace!F75=FALSE,Kalkulace!G75=FALSE),20000,AND(Kalkulace!D72=FALSE,Kalkulace!E72=FALSE,Kalkulace!F72=FALSE,Kalkulace!G72=FALSE,Kalkulace!D73=FALSE,Kalkulace!E73=FALSE,Kalkulace!F73=FALSE,Kalkulace!G73=FALSE,Kalkulace!D74=TRUE,Kalkulace!E74=FALSE,Kalkulace!F74=FALSE,Kalkulace!G74=FALSE,Kalkulace!D75=FALSE,Kalkulace!E75=FALSE,Kalkulace!F75=FALSE,Kalkulace!G75=FALSE),1000,AND(Kalkulace!D72=FALSE,Kalkulace!E72=FALSE,Kalkulace!F72=FALSE,Kalkulace!G72=FALSE,Kalkulace!D73=FALSE,Kalkulace!E73=FALSE,Kalkulace!F73=FALSE,Kalkulace!G73=FALSE,Kalkulace!D74=FALSE,Kalkulace!E74=TRUE,Kalkulace!F74=FALSE,Kalkulace!G74=FALSE,Kalkulace!D75=FALSE,Kalkulace!E75=FALSE,Kalkulace!F75=FALSE,Kalkulace!G75=FALSE),5000,AND(Kalkulace!D72=FALSE,Kalkulace!E72=FALSE,Kalkulace!F72=FALSE,Kalkulace!G72=FALSE,Kalkulace!D73=FALSE,Kalkulace!E73=FALSE,Kalkulace!F73=FALSE,Kalkulace!G73=FALSE,Kalkulace!D74=FALSE,Kalkulace!E74=FALSE,Kalkulace!F74=TRUE,Kalkulace!G74=FALSE,Kalkulace!D75=FALSE,Kalkulace!E75=FALSE,Kalkulace!F75=FALSE,Kalkulace!G75=FALSE),10000,AND(Kalkulace!D72=FALSE,Kalkulace!E72=FALSE,Kalkulace!F72=FALSE,Kalkulace!G72=FALSE,Kalkulace!D73=FALSE,Kalkulace!E73=FALSE,Kalkulace!F73=FALSE,Kalkulace!G73=FALSE,Kalkulace!D74=FALSE,Kalkulace!E74=FALSE,Kalkulace!F74=FALSE,Kalkulace!G74=TRUE,Kalkulace!D75=FALSE,Kalkulace!E75=FALSE,Kalkulace!F75=FALSE,Kalkulace!G75=FALSE),20000,AND(Kalkulace!D72=FALSE,Kalkulace!E72=FALSE,Kalkulace!F72=FALSE,Kalkulace!G72=FALSE,Kalkulace!D73=FALSE,Kalkulace!E73=FALSE,Kalkulace!F73=FALSE,Kalkulace!G73=FALSE,Kalkulace!D74=FALSE,Kalkulace!E74=FALSE,Kalkulace!F74=FALSE,Kalkulace!G74=FALSE,Kalkulace!D75=TRUE,Kalkulace!E75=FALSE,Kalkulace!F75=FALSE,Kalkulace!G75=FALSE),1000,AND(Kalkulace!D72=FALSE,Kalkulace!E72=FALSE,Kalkulace!F72=FALSE,Kalkulace!G72=FALSE,Kalkulace!D73=FALSE,Kalkulace!E73=FALSE,Kalkulace!F73=FALSE,Kalkulace!G73=FALSE,Kalkulace!D74=FALSE,Kalkulace!E74=FALSE,Kalkulace!F74=FALSE,Kalkulace!G74=FALSE,Kalkulace!D75=FALSE,Kalkulace!E75=TRUE,Kalkulace!F75=FALSE,Kalkulace!G75=FALSE),5000,AND(Kalkulace!D72=FALSE,Kalkulace!E72=FALSE,Kalkulace!F72=FALSE,Kalkulace!G72=FALSE,Kalkulace!D73=FALSE,Kalkulace!E73=FALSE,Kalkulace!F73=FALSE,Kalkulace!G73=FALSE,Kalkulace!D74=FALSE,Kalkulace!E74=FALSE,Kalkulace!F74=FALSE,Kalkulace!G74=FALSE,Kalkulace!D75=FALSE,Kalkulace!E75=FALSE,Kalkulace!F75=TRUE,Kalkulace!G75=FALSE),10000,AND(Kalkulace!D72=FALSE,Kalkulace!E72=FALSE,Kalkulace!F72=FALSE,Kalkulace!G72=FALSE,Kalkulace!D73=FALSE,Kalkulace!E73=FALSE,Kalkulace!F73=FALSE,Kalkulace!G73=FALSE,Kalkulace!D74=FALSE,Kalkulace!E74=FALSE,Kalkulace!F74=FALSE,Kalkulace!G74=FALSE,Kalkulace!D75=FALSE,Kalkulace!E75=FALSE,Kalkulace!F75=FALSE,Kalkulace!G75=TRUE),20000),"Vybráno více možností")} -> 5000 | H30: {=_xlfn.IFS(AND(Sazby!I28>0,(Sazby!B11+Sazby!B12)=0),"",Sazby!I28=0,"",AND(Sazby!I28>0,(Sazby!B11+Sazby!B12)>0),Sazby!G30)}
A31: Rozšíření pojištění: škody nebo újmy způsobené výkonem funkce člena statutárního orgánu společenství vlastníků a/nebo při výkonu funkce statutárního orgánu družstva při správě pojištěného bytového domu
A32: Limit pojistného plnění: | B32: Spoluúčast | G32: Zvolený limit:
B33: 1000 | C33: 5000 | D33: 10000 | E33: 20000 | G33: =IF(G27=5000000,2000000,IF(G27=10000000,5000000,IF(G27=20000000,10000000,IF(G27=50000000,10000000,"")))) -> 10000000 | H33: {=_xlfn.IFS(AND(H27="",ISNUMBER(G36)=TRUE),"Nejdříve vyberte základní limit pro odpovědnost",AND(Sazby!I34>0,(Sazby!B11+Sazby!B12)=0),"Nejdříve vyplňte PČ",Sazby!I34=0,"",AND(Sazby!I34>0,(Sazby!B11+Sazby!B12)>0),Sazby!G33)} -> Nejdříve vyplňte PČ | I33: Pojistné:
A34: 2000000 | B34: 496.8 | C34: 414 | D34: 397.44 | E34: 380.88 | I34: {=IF((B11+B12)>300000000,"",IFERROR(_xlfn.IFS(AND(MATCH(G33,A34:A36)=1,MATCH(G36,B33:E33)=1),B34,AND(MATCH(G33,A34:A36)=2,MATCH(G36,B33:E33)=1),B35,AND(MATCH(G33,A34:A36)=3,MATCH(G36,B33:E33)=1),B36,AND(MATCH(G33,A34:A36)=1,MATCH(G36,B33:E33)=2),C34,AND(MATCH(G33,A34:A36)=2,MATCH(G36,B33:E33)=2),C35,AND(MATCH(G33,A34:A36)=3,MATCH(G36,B33:E33)=2),C36,AND(MATCH(G33,A34:A36)=1,MATCH(G36,B33:E33)=3),D34,AND(MATCH(G33,A34:A36)=2,MATCH(G36,B33:E33)=3),D35,AND(MATCH(G33,A34:A36)=3,MATCH(G36,B33:E33)=3),D36,AND(MATCH(G33,A34:A36)=1,MATCH(G36,B33:E33)=4),E34,AND(MATCH(G33,A34:A36)=2,MATCH(G36,B33:E33)=4),E35,AND(MATCH(G33,A34:A36)=3,MATCH(G36,B33:E33)=4),E36),0))} -> 944 | J34: {=_xlfn.IFS(AND(H27="",I34>0),"",AND(Sazby!I34>0,(Sazby!B11+Sazby!B12)=0),"",Sazby!I34=0,"",AND(Sazby!I34>0,(Sazby!B11+Sazby!B12)>0),IF(Sazby!G33="","",Sazby!I34))}
A35: 5000000 | B35: 763.2 | C35: 636 | D35: 610.56 | E35: 585.12 | G35: Zvolená spoluúčast
A36: 10000000 | B36: 1132.8 | C36: 944 | D36: 906.24 | E36: 868.48 | G36: {=IFERROR(_xlfn.IFS(AND(Kalkulace!D81=FALSE,Kalkulace!E81=FALSE,Kalkulace!F81=FALSE,Kalkulace!G81=FALSE),"",AND(Kalkulace!D81=TRUE,Kalkulace!E81=FALSE,Kalkulace!F81=FALSE,Kalkulace!G81=FALSE),1000,AND(Kalkulace!D81=FALSE,Kalkulace!E81=TRUE,Kalkulace!F81=FALSE,Kalkulace!G81=FALSE),5000,AND(Kalkulace!D81=FALSE,Kalkulace!E81=FALSE,Kalkulace!F81=TRUE,Kalkulace!G81=FALSE),10000,AND(Kalkulace!D81=FALSE,Kalkulace!E81=FALSE,Kalkulace!F81=FALSE,Kalkulace!G81=TRUE),20000),"")} -> 5000 | H36: {=_xlfn.IFS(AND(H27="",I34>0),"",AND(Sazby!I34>0,(Sazby!B11+Sazby!B12)=0),"",Sazby!I34=0,"",AND(Sazby!I34>0,(Sazby!B11+Sazby!B12)>0),Sazby!G36)}
